BEGIN:VCALENDAR
VERSION:2.0
PRODID:-//ChamberMaster//Event Calendar 2.0//EN
METHOD:PUBLISH
X-PUBLISHED-TTL:P3D
REFRESH-INTERVAL:P3D
CALSCALE:GREGORIAN
BEGIN:VEVENT
DTSTART:20260311T170000Z
DTEND:20260311T183000Z
X-MICROSOFT-CDO-ALLDAYEVENT:FALSE
SUMMARY:Writing for the Web
DESCRIPTION:Learn to organize web content by employing hierarchies of information\, writing short\, scannable text\, and highlighting content with visual cues.
X-ALT-DESC;FMTTYPE=text/html:Learn to organize web content by employing hierarchies of information\, writing short\, scannable text\, and highlighting content with visual cues.
LOCATION:Virtual. Register at Dakota County Library website\, search for events calendar. Zoom link will be provided.
UID:e.471.784377
SEQUENCE:3
DTSTAMP:20260422T030058Z
URL:https://business.dcrchamber.com/events/details/writing-for-the-web-784377
END:VEVENT

END:VCALENDAR
