BEGIN:VCALENDAR
VERSION:2.0
PRODID:-//ChamberMaster//Event Calendar 2.0//EN
METHOD:PUBLISH
X-PUBLISHED-TTL:P3D
REFRESH-INTERVAL:P3D
CALSCALE:GREGORIAN
BEGIN:VEVENT
DTSTART:20220816T230000Z
DTEND:20220817T010000Z
X-MICROSOFT-CDO-ALLDAYEVENT:FALSE
SUMMARY:WORKSHOP: How to take better photos with your cellphone
DESCRIPTION:Register Here
X-ALT-DESC;FMTTYPE=text/html:<h1><br />\n&nbsp\;</h1>\n\n<div><a href="https://blockportraitstudios.pixifi.com/workshops/7f04214c9349c772"><strong>Register Here</strong></a></div>\n
LOCATION:
UID:e.471.783134
SEQUENCE:3
DTSTAMP:20260424T125336Z
URL:https://business.dcrchamber.com/events/details/workshop-how-to-take-better-photos-with-your-cellphone-783134
END:VEVENT

END:VCALENDAR
