BEGIN:VCALENDAR
VERSION:2.0
PRODID:-//ChamberMaster//Event Calendar 2.0//EN
METHOD:PUBLISH
X-PUBLISHED-TTL:P3D
REFRESH-INTERVAL:P3D
CALSCALE:GREGORIAN
BEGIN:VEVENT
DTSTART:20250925T163000Z
DTEND:20250925T190000Z
X-MICROSOFT-CDO-ALLDAYEVENT:FALSE
SUMMARY:Women's Luncheon - Thursday\, September 25\, 2025
DESCRIPTION:Get Your Grit Together: Building Resilience and\n\nEnergy in a Changing World\n\nThursday\, September 25\, 2025 | 11:30 AM   2:00 PM \n\nThe Heights Racquet & Social Club   Porch Event Space\n\n1415 Mendota Heights Rd\, Mendota Heights\, MN 55120\n\n\nJoin us for a dynamic afternoon of lunch\, networking\, inspiration\, and optional movement!\n\nIn a world of increasing demands\, women professionals are craving space to reset\, reconnect\, and reenergize. This event is designed to blend personal development\, leadership insights\, and joyful movement to foster growth\, well-being\, and connection. Featuring Tiffany Mattick\, Founder of There She Grows\, leadership coach\, speaker\, and energy igniter. With humor\, authenticity\, and practical tools\, Tiffany will guide us through a powerful conversation on resilience\, energy management\, and aligning with what matters most.\n\n\n\nThe session will close with a 10-minute lively panel discussion featuring two local Chamber women\, offering their own insights and lessons on grit and growth. Afterward\, attendees will have the opportunity to connect and continue the fun on the pickleball court.\n\n\nSpotlight Speaker: Tiffany Mattick\, Founder   There She Grows Tiffany Mattick | There She Grows | Personal Growth Coach | Speaker\n\n\nTiffany Mattick is the founder of There She Grows\, a leadership coach\, keynote speaker\, and energy igniter known for helping women reconnect to their power\, voice\, and vitality. With over 25 years of corporate experience in organizational effectiveness\, talent development\, and leadership coaching\, Tiffany brings a rare blend of depth\, humor\, authenticity\, and real-life tools to every room she enters. She is also a passionate pickleball player and community-builder\, making this event a perfect intersection of professional growth and personal joy.\n\n\n\nFeatured Panelists\n\n\n	\n	Sarah Caflisch   Blue Cross Blue Shield\n	\n	\n	Abby Wirth   Blue Net Inc. \n	\n\n\n\nSchedule\n\n\n	11:30 AM   12:00 PM | Arrival\, Lunch & Networking\n	 12:00 PM   12:40 PM | Keynote: Get Your Grit Together with Tiffany Mattick\n	12:40 PM   12:50 PM | Panel Q&A with Chamber Members\n	12:50 PM   1:00 PM | Wrap-up & Reflection\n	1:00 PM   2:00 PM | Networking & Optional Pickleball (optional\, gear provided\, no experience needed)!\n\n\n\nRegistration  - includes lunch\, beverages\, and program. Space is limited\, so reserve your spots early!\n\n\n	\n	$28   DCR Chamber Members\n\n	$34   Non-members\n	\n\n\n\nNote: Cancellations made less than 72 business hours before the event are non-refundable.
X-ALT-DESC;FMTTYPE=text/html:<h3 data-end="171" data-start="106" style="text-align: center\;"><em><span style="font-size:18px\;"><strong data-end="171" data-start="110">&nbsp\;Get Your Grit Together: Building Resilience and<br />\nEnergy in a Changing World</strong></span></em></h3>\n\n<p data-end="339" data-start="173"><span style="font-size:16px\;"><strong data-end="226" data-start="173">Thursday\, September 25\, 2025 | 11:30 AM &ndash\; 2:00 PM&nbsp\;</strong><br data-end="229" data-start="226" />\n<strong data-end="286" data-start="229">The Heights Racquet &amp\; Social Club &ndash\; Porch Event Space</strong><br data-end="289" data-start="286" />\n1415 Mendota Heights Rd\, Mendota Heights\, MN 55120</span></p>\n\n<hr data-end="344" data-start="341" />\n<p data-end="756" data-start="346"><span style="font-size:16px\;"><strong data-end="439" data-start="346">Join us for a dynamic afternoon of lunch\, networking\, inspiration\, and optional movement!</strong></span></p>\n\n<p background-color:="" data-olk-copy-source="MessageBody" font-size:="" helvetica="" margin-bottom:="" margin-top:="" segoe="" style="color: rgb(36\, 36\, 36)\;" ui="" web="" west=""><span style="font-size: 16px\;"><span style="font-family: arial\;">In a world of increasing demands\, women professionals are craving space to reset\, reconnect\, and reenergize. This event is designed to blend personal development\, leadership insights\, and joyful movement to foster growth\, well-being\, and connection.&nbsp\;</span></span><span style="color: rgb(36\, 36\, 36)\; font-family: &quot\;Segoe UI&quot\;\, &quot\;Segoe UI Web (West European)&quot\;\, -apple-system\, BlinkMacSystemFont\, Roboto\, &quot\;Helvetica Neue&quot\;\, sans-serif\; font-size: 15px\;">Featuring&nbsp\;</span><strong style="color: rgb(36\, 36\, 36)\; font-family: &quot\;Segoe UI&quot\;\, &quot\;Segoe UI Web (West European)&quot\;\, -apple-system\, BlinkMacSystemFont\, Roboto\, &quot\;Helvetica Neue&quot\;\, sans-serif\; font-size: 15px\;">Tiffany Mattick</strong><span style="color: rgb(36\, 36\, 36)\; font-family: &quot\;Segoe UI&quot\;\, &quot\;Segoe UI Web (West European)&quot\;\, -apple-system\, BlinkMacSystemFont\, Roboto\, &quot\;Helvetica Neue&quot\;\, sans-serif\; font-size: 15px\;">\, Founder of&nbsp\;</span><em style="color: rgb(36\, 36\, 36)\; font-family: &quot\;Segoe UI&quot\;\, &quot\;Segoe UI Web (West European)&quot\;\, -apple-system\, BlinkMacSystemFont\, Roboto\, &quot\;Helvetica Neue&quot\;\, sans-serif\; font-size: 15px\;">There She Grows</em><span style="color: rgb(36\, 36\, 36)\; font-family: &quot\;Segoe UI&quot\;\, &quot\;Segoe UI Web (West European)&quot\;\, -apple-system\, BlinkMacSystemFont\, Roboto\, &quot\;Helvetica Neue&quot\;\, sans-serif\; font-size: 15px\;">\, leadership coach\, speaker\, and energy igniter. With humor\, authenticity\, and practical tools\, Tiffany will guide us through a powerful conversation on resilience\, energy management\, and aligning with what matters most.</span><br />\n<br />\n<span style="font-size: 16px\;"><span style="font-family: arial\;">The session will close with a 10-minute lively panel discussion featuring two local Chamber women\, offering their own insights and lessons on grit and growth. Afterward\, attendees will have the opportunity to connect and continue the fun on the pickleball court.</span></span></p>\n\n<hr data-end="812" data-start="809" />\n<h3 data-end="888" data-start="814"><span style="font-size:16px\;"><strong data-end="886" data-start="821">Spotlight Speaker: Tiffany Mattick\, Founder &ndash\; There She Grows&nbsp\;</strong></span><a href="https://www.tiffanymattick.com/">Tiffany Mattick | There She Grows | Personal Growth Coach | Speaker</a></h3>\n\n<div background-color:="" color:="" font-feature-settings:="" font-kerning:="" font-optical-sizing:="" font-size-adjust:="" font-variation-settings:="" helvetica="" margin:="" padding:="" segoe="" style="border: 0px\; font-variant-numeric: inherit\; font-variant-east-asian: inherit\; font-variant-alternates: inherit\; font-variant-position: inherit\; font-variant-emoji: inherit\; font-stretch: inherit\; font-size: 15px\; line-height: inherit\; font-family: " ui="" vertical-align:="" web="" west="">\n<p style="color: rgb(36\, 36\, 36)\; font-family: &quot\;Segoe UI&quot\;\, &quot\;Segoe UI Web (West European)&quot\;\, -apple-system\, BlinkMacSystemFont\, Roboto\, &quot\;Helvetica Neue&quot\;\, sans-serif\; font-size: 15px\; margin-top: 0px\; margin-bottom: 0px\;"><span style="font-size: 16px\;"><span style="font-family: arial\;"><strong>Tiffany Mattick</strong>&nbsp\;is the founder of&nbsp\;<em>There She Grows</em>\, a leadership coach\, keynote speaker\, and energy igniter known for helping women reconnect to their power\, voice\, and vitality. With over 25 years of corporate experience in organizational effectiveness\, talent development\, and leadership coaching\, Tiffany brings a rare blend of depth\, humor\, authenticity\, and real-life tools to every room she enters. She is also a passionate pickleball player and community-builder\, making this event a perfect intersection of professional growth and personal joy.</span></span></p>\n</div>\n\n<hr data-end="1236" data-start="1233" />\n<h3 data-end="1270" data-start="1238"><span style="font-size:16px\;"><strong data-end="1268" data-start="1246">Featured Panelists</strong></span></h3>\n\n<ul data-end="1353" data-start="1271">\n	<li data-end="1318" data-start="1271">\n	<p data-end="1318" data-start="1273"><span style="font-size:16px\;"><strong data-end="1291" data-start="1273">Sarah Caflisch</strong> &ndash\; Blue Cross Blue Shield</span></p>\n	</li>\n	<li data-end="1353" data-start="1319">\n	<p data-end="1353" data-start="1321"><span style="font-size:16px\;"><strong data-end="1335" data-start="1321">Abby Wirth</strong> &ndash\; Blue Net Inc.<span style="font-size:16px\;">&nbsp\;</span></span></p>\n	</li>\n</ul>\n\n<hr data-end="1470" data-start="1467" />\n<h3 data-end="1493" data-start="1472"><span style="font-size:16px\;"><strong data-end="1491" data-start="1479">Schedule</strong></span></h3>\n\n<ul>\n	<li data-end="1534" data-start="1496"><span style="font-size:16px\;"><strong data-end="1519" data-start="1496">11:30 AM &ndash\; 12:00 PM</strong> | Arrival\, Lunch &amp\; Networking</span></li>\n	<li data-end="1534" data-start="1496"><span style="font-size:16px\;">&#8203\;<span style="font-size:16px\;"><strong data-end="1560" data-start="1537">12:00 PM &ndash\; 12:40&nbsp\;PM</strong> | Keynote:&nbsp\;<em>Get Your Grit Together with</em>&nbsp\;Tiffany Mattick</span></span></li>\n	<li data-end="1534" data-start="1496"><strong data-end="1624" data-start="1602" style="font-size: 16px\;">12:40&nbsp\;PM &ndash\; 12:50&nbsp\;PM</strong><span style="font-size: 16px\;"> | Panel Q&amp\;A with Chamber Members</span></li>\n	<li data-end="1534" data-start="1496"><strong data-end="1624" data-start="1602" style="font-size: 16px\;">12:50&nbsp\;PM &ndash\; 1:00&nbsp\;PM</strong><span style="font-size: 16px\;">&nbsp\;| Wrap-up &amp\; Reflection</span></li>\n	<li data-end="1534" data-start="1496"><strong data-end="1669" data-start="1648" style="font-size: 16px\;">1:00 PM &ndash\; 2:00 PM</strong><span style="font-size: 16px\;"> | Networking &amp\; Optional&nbsp\;Pickleball (optional\, gear provided\, no experience needed)!</span></li>\n</ul>\n\n<hr data-end="1708" data-start="1705" />\n<h3 data-end="1736" data-start="1710"><span style="font-size:16px\;"><strong data-end="1734" data-start="1718">Registration&nbsp\;&nbsp\;</strong><em>- includes lunch\, beverages\, and program. Space is limited\, so reserve your spots early!</em></span></h3>\n\n<ul data-end="1837" data-start="1737">\n	<li data-end="1811" data-start="1737">\n	<p data-end="1811" data-start="1739"><span style="font-size:16px\;"><strong data-end="1746" data-start="1739">$28</strong>&nbsp\;&ndash\; DCR Chamber Members<br />\n	<strong data-end="1821" data-start="1814">$34</strong>&nbsp\;&ndash\; Non-members</span></p>\n	</li>\n</ul>\n\n<blockquote data-end="1932" data-start="1839">\n<p data-end="1932" data-start="1841"><span style="font-size:16px\;"><em data-end="1932" data-start="1841">Note: Cancellations made less than 72 business hours before the event are non-refundable.</em></span><br />\n&nbsp\;</p>\n</blockquote>\n
LOCATION:The Heights Racquet & Social Club 1415 Mendota Heights Rd\, Mendota Heights\, MN 55120
UID:e.471.784030
SEQUENCE:3
DTSTAMP:20260422T104900Z
URL:https://business.dcrchamber.com/events/details/women-s-luncheon-thursday-september-25-2025-784030
END:VEVENT

END:VCALENDAR
