BEGIN:VCALENDAR
VERSION:2.0
PRODID:-//ChamberMaster//Event Calendar 2.0//EN
METHOD:PUBLISH
X-PUBLISHED-TTL:P3D
REFRESH-INTERVAL:P3D
CALSCALE:GREGORIAN
BEGIN:VEVENT
DTSTART;VALUE=DATE:20220828
DTEND;VALUE=DATE:20220829
TRANSP:TRANSPARENT
X-MICROSOFT-CDO-ALLDAYEVENT:TRUE
SUMMARY:Walking Gangster Tour of Downtown Saint Paul
DESCRIPTION:THE WALKING GANGSTER TOUR OF DOWNTOWN SAINT PAUL\n\nSATURDAYS AND SUNDAYS at 1pm.  90-minutes - $20 per person\n\nReserved at CYNCITYTOURS.COM\n\nStroll back into the 1920's and 1930's with an entertaining guide exploring Saint Paul's dark past.  Learn about the big name criminals like John Dillinger\, who came to our city to hide from the Feds and do business.
X-ALT-DESC;FMTTYPE=text/html:<p><strong>THE WALKING GANGSTER TOUR OF DOWNTOWN SAINT PAUL<br />\nSATURDAYS AND SUNDAYS at 1pm. &nbsp\;90-minutes - $20 per person<br />\nReserved at CYNCITYTOURS.COM</strong></p>\n\n<p><strong>Stroll back into the 1920&rsquo\;s and 1930&rsquo\;s with an entertaining guide&hellip\;exploring Saint Paul&#39\;s dark past.&nbsp\; Learn about the big name criminals like John Dillinger\, who came to our city to hide from the Feds and do business. &nbsp\;</strong><br />\n&nbsp\;</p>\n
LOCATION:Infor Commons\, 380 St. Peter St.\, St. Paul\, MN
UID:e.471.782661
SEQUENCE:3
DTSTAMP:20260424T125432Z
URL:https://business.dcrchamber.com/events/details/walking-gangster-tour-of-downtown-saint-paul-08-28-2022-782661
END:VEVENT

END:VCALENDAR
