BEGIN:VCALENDAR
VERSION:2.0
PRODID:-//ChamberMaster//Event Calendar 2.0//EN
METHOD:PUBLISH
X-PUBLISHED-TTL:P3D
REFRESH-INTERVAL:P3D
CALSCALE:GREGORIAN
BEGIN:VEVENT
DTSTART:20231102T200000Z
DTEND:20231103T000000Z
X-MICROSOFT-CDO-ALLDAYEVENT:FALSE
SUMMARY:VIP NIGHT Storm Creek 11th Annual Warehouse Sale
DESCRIPTION:We can't wait to see you at our 11th Annual Warehouse Sale!! Here are a few things you need to know before you shop. The Logistics ?? Where is the event? 915 Blue Gentian Rd #200 Eagan\, MN 55121 ?? What if I can't shop in person? Don't worry! You will be able to shop the online warehouse sale from November 3-November 11 ?? What forms of payment will you accept? Credit and debit card. ? Where can I find more information? Stay tuned! Make sure you are signed up for email and text reminders! https://www.stormcreek.com/pages/2023-warehouse-sale The Fun Stuff ?? DISCOUNTS (up to 70% off + bargain bins are back!) ?? Mystery Boxes (3 items for only $39.99!) ?? 10% of all sales go to 1 of 4 charities of your choice (Big Brothers Big Sisters Twin Cities\, Feeding America\, National Park Foundation\, Storm Creek Community Fund)
X-ALT-DESC;FMTTYPE=text/html:We can&#39\;t wait to see you at our 11th Annual Warehouse Sale!! Here are a few things you need to know before you shop. The Logistics ?? Where is the event? 915 Blue Gentian Rd #200 Eagan\, MN 55121 ?? What if I can&rsquo\;t shop in person? Don&rsquo\;t worry! You will be able to shop the online warehouse sale from November 3-November 11 ?? What forms of payment will you accept? Credit and debit card. ? Where can I find more information? Stay tuned! Make sure you are signed up for email and text reminders! https://www.stormcreek.com/pages/2023-warehouse-sale The Fun Stuff ?? DISCOUNTS (up to 70% off + bargain bins are back!) ?? Mystery Boxes (3 items for only $39.99!) ?? 10% of all sales go to 1 of 4 charities of your choice (Big Brothers Big Sisters Twin Cities\, Feeding America\, National Park Foundation\, Storm Creek Community Fund)
LOCATION:915 Blue Gentian Rd #200 Eagan\, MN 55121
UID:e.471.783446
SEQUENCE:3
DTSTAMP:20260422T020120Z
URL:https://business.dcrchamber.com/events/details/vip-night-storm-creek-11th-annual-warehouse-sale-783446
END:VEVENT

END:VCALENDAR
