BEGIN:VCALENDAR
VERSION:2.0
PRODID:-//ChamberMaster//Event Calendar 2.0//EN
METHOD:PUBLISH
X-PUBLISHED-TTL:P3D
REFRESH-INTERVAL:P3D
CALSCALE:GREGORIAN
BEGIN:VEVENT
DTSTART;VALUE=DATE:20250422
DTEND;VALUE=DATE:20250423
TRANSP:TRANSPARENT
X-MICROSOFT-CDO-ALLDAYEVENT:TRUE
SUMMARY:Tono's + Fraser Fundraiser for Autism Acceptance Month
DESCRIPTION:Celebrate 90 years of Fraser and Autism Acceptance Month at Tono's Pizza the whole month of April!  For every order of the "FRASER" pizza - featuring sausage\, Fresno peppers\, ricotta cheese\, topped with hot honey - 10% off all sales from the month will be donated to Fraser.\n\n\n\nOffer is available at all Tono's locations - to find one nearest you visit: https://tonomn.com/
X-ALT-DESC;FMTTYPE=text/html:<span style="color:rgb(0\, 0\, 0)">Celebrate 90 years of Fraser and&nbsp\;Autism Acceptance Month at Tono&rsquo\;s Pizza the whole month of April!&nbsp\; For every order of</span>&nbsp\;the &ldquo\;FRASER&rdquo\; pizza - featuring sausage\, Fresno peppers\, ricotta cheese\, topped with hot honey -&nbsp\;<strong>10% off all sales from the month will be donated to Fraser.</strong><br />\n<br />\nOffer is available at all Tono&#39\;s locations - to find one nearest you visit:&nbsp\;https://tonomn.com/
LOCATION:Offer is available at all Tono's locations - to find one nearest you visit: https://tonomn.com/
UID:e.471.783916
SEQUENCE:3
DTSTAMP:20260421T080503Z
URL:https://business.dcrchamber.com/events/details/tono-s-fraser-fundraiser-for-autism-acceptance-month-04-22-2025-783916
END:VEVENT

END:VCALENDAR
