BEGIN:VCALENDAR
VERSION:2.0
PRODID:-//ChamberMaster//Event Calendar 2.0//EN
METHOD:PUBLISH
X-PUBLISHED-TTL:P3D
REFRESH-INTERVAL:P3D
CALSCALE:GREGORIAN
BEGIN:VEVENT
DTSTART:20260225T180000Z
DTEND:20260225T190000Z
X-MICROSOFT-CDO-ALLDAYEVENT:FALSE
SUMMARY:TikTok Advertising and Marketing
DESCRIPTION:Learn how to create a TikTok marketing strategy including setting campaign goals\, identifying a target audience\, creating relevant content\, and developing a posting schedule. Learn how to create high-quality videos\, write effective captions and use hashtags to reach a wider audience.
X-ALT-DESC;FMTTYPE=text/html:Learn how to create a TikTok marketing strategy including setting campaign goals\, identifying a target audience\, creating relevant content\, and developing a posting schedule. Learn how to create high-quality videos\, write effective captions and use hashtags to reach a wider audience.
LOCATION:Virtual. Register at Dakota County Library website\, search for events calendar. Zoom link will be provided.
UID:e.471.784375
SEQUENCE:3
DTSTAMP:20260422T041748Z
URL:https://business.dcrchamber.com/events/details/tiktok-advertising-and-marketing-784375
END:VEVENT

END:VCALENDAR
