BEGIN:VCALENDAR
VERSION:2.0
PRODID:-//ChamberMaster//Event Calendar 2.0//EN
METHOD:PUBLISH
X-PUBLISHED-TTL:P3D
REFRESH-INTERVAL:P3D
CALSCALE:GREGORIAN
BEGIN:VEVENT
DTSTART:20230819T130000Z
DTEND:20230819T170000Z
X-MICROSOFT-CDO-ALLDAYEVENT:FALSE
SUMMARY:The Open Door 5K\, 1 Mile Walk & 1/2K Kids Run
DESCRIPTION:Join us at The Open Door's\n\n3rd Annual 5K Run\n\n1 Mile Fun Walk and 1/2K Kids Run\n\nRegister now for this fun\, healthy activity to support The Open Door's mission to end hunger for low-income\, food insecure residents of Dakota County! \n\nDate: Saturday\, August 19th\, 2023\n\n7:00 am   Packet Pick Up/Registration\n\n8:00 am   5K Race Start\n\n9:00 am   1 Mile Fun Walk Start\n\n9:30 am   Kids Fun Run Start\n\nLocation: Casperson Park | 19720 Juno Trail\, Lakeville\, MN\n\nRegistration Includes:\n\n\n	\n	Performance T-shirt\n	\n	\n	5K Finisher's Medal\n	\n	\n	5K Timed Event\n	\n	\n	Complimentary Breakfast\n	\n	\n	Post Event Prize Drawings
X-ALT-DESC;FMTTYPE=text/html:<h1 style="text-align:center">Join us at The Open Door&rsquo\;s<br />\n3rd Annual 5K Run<br />\n1 Mile Fun Walk and 1/2K Kids Run</h1>\n\n<h2>Register now for this fun\, healthy activity to support The Open Door&rsquo\;s mission to end hunger for low-income\, food insecure residents of Dakota County!&nbsp\;</h2>\n\n<h4>Date: Saturday\, August 19th\, 2023</h4>\n\n<h4>7:00 am &ndash\; Packet Pick Up/Registration<br />\n8:00 am &ndash\; 5K Race Start<br />\n9:00 am &ndash\; 1 Mile Fun Walk Start<br />\n9:30 am &ndash\; Kids Fun Run Start</h4>\n\n<h4>Location: Casperson Park | 19720 Juno Trail\, Lakeville\, MN</h4>\n\n<h5>Registration Includes:</h5>\n\n<ul>\n	<li style="text-align:left">\n	<h5>Performance T-shirt</h5>\n	</li>\n	<li>\n	<h5>5K Finisher&rsquo\;s Medal</h5>\n	</li>\n	<li>\n	<h5>5K Timed Event</h5>\n	</li>\n	<li style="text-align:left">\n	<h5>Complimentary Breakfast</h5>\n	</li>\n	<li>\n	<h5>Post Event Prize Drawings</h5>\n	</li>\n</ul>\n
LOCATION:Casperson Park | 19720 Juno Trail\, Lakeville\, MN 55044
UID:e.471.783413
SEQUENCE:3
DTSTAMP:20260422T102355Z
URL:https://business.dcrchamber.com/events/details/the-open-door-5k-1-mile-walk-1-2k-kids-run-783413
END:VEVENT

END:VCALENDAR
