BEGIN:VCALENDAR
VERSION:2.0
PRODID:-//ChamberMaster//Event Calendar 2.0//EN
METHOD:PUBLISH
X-PUBLISHED-TTL:P3D
REFRESH-INTERVAL:P3D
CALSCALE:GREGORIAN
BEGIN:VEVENT
DTSTART:20260218T180000Z
DTEND:20260218T190000Z
X-MICROSOFT-CDO-ALLDAYEVENT:FALSE
SUMMARY:Social Media Marketing
DESCRIPTION:Learn about social media apps and why social media boosts search engine optimization (SEO). We will discuss social media apps that target specific demographics\, including Facebook\, Instagram and YouTube. We will also review apps that push posts to multiple platforms. Register here.
X-ALT-DESC;FMTTYPE=text/html:Learn about social media apps and why social media boosts search engine optimization (SEO). We will discuss social media apps that target specific demographics\, including Facebook\, Instagram and YouTube. We will also review apps that push posts to multiple platforms. Register here.
LOCATION:Virtual. Register at Dakota County Library website\, search for events calendar. Zoom link will be provided.
UID:e.471.784374
SEQUENCE:3
DTSTAMP:20260422T052521Z
URL:https://business.dcrchamber.com/events/details/social-media-marketing-784374
END:VEVENT

END:VCALENDAR
