BEGIN:VCALENDAR
VERSION:2.0
PRODID:-//ChamberMaster//Event Calendar 2.0//EN
METHOD:PUBLISH
X-PUBLISHED-TTL:P3D
REFRESH-INTERVAL:P3D
CALSCALE:GREGORIAN
BEGIN:VEVENT
DTSTART:20230513T170000Z
DTEND:20230513T210000Z
X-MICROSOFT-CDO-ALLDAYEVENT:FALSE
SUMMARY:Rick's Bike Sale
DESCRIPTION:Save the Date for Rick's Bike Sale! Shop more than 450 refurbished bikes at this one day sale supporting DARTS and Kids 'n Kinship. For more information\, visit ricksbikesale.com.
X-ALT-DESC;FMTTYPE=text/html:<span style="color:rgb(5\, 5\, 5)\; font-family:segoe ui historic\,segoe ui\,helvetica\,arial\,sans-serif\; font-size:15px">Save the Date for Rick&#39\;s Bike Sale! Shop more than 450 refurbished bikes at this one day sale supporting DARTS and Kids &#39\;n Kinship. For more information\, visit ricksbikesale.com.</span>
LOCATION:Superior Service Center 14580 Glenda Dr. Apple Valley
UID:e.471.783367
SEQUENCE:3
DTSTAMP:20260422T142016Z
URL:https://business.dcrchamber.com/events/details/rick-s-bike-sale-05-13-2023-783367
END:VEVENT

END:VCALENDAR
