BEGIN:VCALENDAR
VERSION:2.0
PRODID:-//ChamberMaster//Event Calendar 2.0//EN
METHOD:PUBLISH
X-PUBLISHED-TTL:P3D
REFRESH-INTERVAL:P3D
CALSCALE:GREGORIAN
BEGIN:VEVENT
DTSTART:20250219T213000Z
DTEND:20250219T223000Z
X-MICROSOFT-CDO-ALLDAYEVENT:FALSE
SUMMARY:Ribbon Cutting: Discover Strength
DESCRIPTION:You're Invited to a Ribbon Cutting and Grand Opening Celebration \n\n\n\nJoin us for a ribbon cutting celebration on Wednesday\, February 19\, 2025\, to welcome Discover Strength to the DCR Chamber community. \n\n\n\nSchedule -\n\n3:30 pm - Welcome\n\n4 pm - Ribbon Cutting with refreshments and tours to follow with workout demonstrations available\n\n\n\nAbout Discover Strength: You will accomplish more in 30 minutes than you ever thought possible. Challenge yourself\, build confidence\, and improve your health and performance.\n\n\n\nTRY A SMARTER WAY TO WORKOUT\n\n\n\nEfficient - 30-minute strength workouts\, twice per week.\n\n\n\nEvidence Based - Our fitness prescription on peer-reviewed scientific research to ensure that you will receive the safest and most effective workout.\n\n\n\nExpert\, Educated Trainers - Our team of exercise physiologists all hold degrees in exercise science and are certified exercise physiologists. \n\n\n	1 on 1 Personal Training\n	Small Group Training\n	Virtual 1 on 1 Training
X-ALT-DESC;FMTTYPE=text/html:<div style="text-align: center\;">\n<p><span style="font-size:22px\;"><span style="font-family:arial\;"><strong>You&#39\;re Invited to a Ribbon Cutting and Grand Opening Celebration&nbsp\;</strong></span></span></p>\n</div>\n<br />\n<span style="font-size:16px\;"><span style="font-family:arial\;"><span style="background:white\;">Join us for a ribbon cutting celebration on Wednesday\, February 19\, 2025\, to welcome Discover Strength to the DCR Chamber community.&nbsp\;<br />\n<br />\nSchedule -<br />\n3:30 pm - Welcome<br />\n4 pm - Ribbon Cutting with refreshments and tours to follow with workout demonstrations available<br />\n<br />\nAbout Discover Strength: You will accomplish more in 30 minutes than you ever thought possible. Challenge yourself\, build confidence\, and improve your health and performance.<br />\n<br />\nTRY A SMARTER WAY TO WORKOUT<br />\n<br />\nEfficient - 30-minute strength workouts\, twice per week.<br />\n<br />\nEvidence Based - Our fitness prescription on peer-reviewed scientific research to ensure that you will receive the safest and most effective workout.<br />\n<br />\nExpert\, Educated Trainers - Our team of exercise physiologists all hold degrees in exercise science and are certified exercise physiologists.&nbsp\;</span></span></span>\n\n<ul>\n	<li><span style="font-size:16px\;"><span style="font-family:arial\;"><span style="background:white\;">1 on 1 Personal Training</span></span></span></li>\n	<li><span style="font-size:16px\;"><span style="font-family:arial\;"><span style="background:white\;">Small Group Training</span></span></span></li>\n	<li><span style="font-size:16px\;"><span style="font-family:arial\;"><span style="background:white\;">Virtual 1 on 1 Training</span></span></span></li>\n</ul>\n
LOCATION:Discover Strength 15730 Emperor Ave. Ste 120 Apple Valley\, MN 55124
UID:e.471.783853
SEQUENCE:3
DTSTAMP:20260421T122455Z
URL:https://business.dcrchamber.com/events/details/ribbon-cutting-discover-strength-783853
END:VEVENT

END:VCALENDAR
