BEGIN:VCALENDAR
VERSION:2.0
PRODID:-//ChamberMaster//Event Calendar 2.0//EN
METHOD:PUBLISH
X-PUBLISHED-TTL:P3D
REFRESH-INTERVAL:P3D
CALSCALE:GREGORIAN
BEGIN:VEVENT
DTSTART:20250424T140000Z
DTEND:20250424T183000Z
X-MICROSOFT-CDO-ALLDAYEVENT:FALSE
SUMMARY:Reverse Job Fair
DESCRIPTION:Join the collaborative effort of diverse organizations in Dakota County to prepare youth with disabilities for meaningful employment and full participation in the community. \n\n\n\nWhat is a Reverse Job Fair?\n\nStudents showcase their talents\, skills\, and interests to potential employers through portfolio presentations and conversation. Employers or community members circulate among tables and engage students in discussion about who they are and who they want to be\, while also sharing information about their company\, training opportunities\, available jobs\, and the knowledge\, skills\, and dispositions needed to be successful in their field of work.
X-ALT-DESC;FMTTYPE=text/html:Join the collaborative effort of diverse organizations in Dakota County to prepare youth with disabilities for meaningful employment and full participation in the community.&nbsp\;<br />\n<br />\nWhat is a Reverse Job Fair?<br />\nStudents showcase their talents\, skills\, and interests to potential employers through portfolio presentations and conversation. Employers or community members circulate among tables and engage students in discussion about who they are and who they want to be\, while also sharing information about their company\, training opportunities\, available jobs\, and the knowledge\, skills\, and dispositions needed to be successful in their field of work.&nbsp\;
LOCATION:Dakota County Technical College 1300 145th St. E. Rosemount\, MN 55068
UID:e.471.783852
SEQUENCE:3
DTSTAMP:20260419T130215Z
URL:https://business.dcrchamber.com/events/details/reverse-job-fair-783852
END:VEVENT

END:VCALENDAR
