BEGIN:VCALENDAR
VERSION:2.0
PRODID:-//ChamberMaster//Event Calendar 2.0//EN
METHOD:PUBLISH
X-PUBLISHED-TTL:P3D
REFRESH-INTERVAL:P3D
CALSCALE:GREGORIAN
BEGIN:VEVENT
DTSTART:20250813T200000Z
DTEND:20250813T213000Z
X-MICROSOFT-CDO-ALLDAYEVENT:FALSE
SUMMARY:Reflecting & Elevating Book Club
DESCRIPTION:"Elevate your thinking\, one chapter at a time with turning pages and sparking growth professionally and personally."\n\nLed by Stephanie Elliston\, Certified Professional Coach & Owner of\n\nThe Steady Elevation\n\nJoin us for an engaging and inspiring three-part summer book club series designed to spark reflection\, conversation\, and personal growth. Hosted in the cozy atmosphere of Vendella's Coffee Haus\, this in-person club welcomes readers of all levels whether you devour every chapter\, prefer audiobooks\, or just come for the insights.\n\n\n\nThe first book in the series will be:  "Atomic Habits" by James Clear\n\nA comprehensive guide on habit formation\, detailing how small changes can lead to significant personal and professional transformations.\n\n \n\nLed by Stephanie Elliston\, the owner of The Steady Elevation is a Certified Professional Coach with decades of experience dedicated to engaging individuals and enhancing self-awareness. She excels at leading both large and small groups within organizations\, fostering dynamic and impactful interactions. From facilitating book and journal clubs to guiding group dynamics and orchestrating change processes\, Stephanie creates spaces where collaboration and growth thrive.\n\n\n\nEach book club session will include:\n\n\n	\n	Thoughtful discussions (no pressure to finish the book!)\n	\n	\n	Key point handouts for easy takeaways\n	\n	\n	Personal journaling prompts to deepen self-awareness\n	\n	\n	A welcoming space to connect with others on a growth journey\n	\n\n\nWhen: Monthly on Wednesdays: July\, August\, and September\n\nWhere: Vendella's Coffee Haus\n\nTime: 1.5-hour sessions from 3 pm to 4:30 pm\n\nWhether you're a seasoned reader or just looking to reflect and rise with others\, this is your invitation to elevate your summer and yourself.\n*Reminder that you will need to provide your own book through the library\, local bookstore\, or audible!
X-ALT-DESC;FMTTYPE=text/html:<p data-end="329" data-start="238" style="text-align: center\;"><span style="font-size:18px\;"><span style="font-family:arial\;"><strong data-end="329" data-start="238">&quot\;</strong><em data-end="758" data-start="711">Elevate your thinking\, one chapter at a time with turning pages and sparking growth professionally and personally.&quot\;</em></span></span></p>\n\n<p data-end="329" data-start="238" style="text-align: center\;"><span style="font-size:16px\;"><span style="font-family:arial\;"><strong data-end="329" data-start="238">Led by Stephanie Elliston\, Certified Professional Coach &amp\; Owner of</strong></span></span></p>\n\n<p data-end="329" data-start="238" style="text-align: center\;"><span style="font-size:16px\;"><span style="font-family:arial\;"><strong data-end="329" data-start="238">The Steady Elevation</strong></span></span></p>\n\n<p data-end="664" data-start="331"><span style="font-size:16px\;"><span style="font-family:arial\;">Join us for an engaging and inspiring three-part summer book club series designed to spark reflection\, conversation\, and personal growth. Hosted in the cozy atmosphere of <strong data-end="528" data-start="502">Vendella&rsquo\;s Coffee Haus</strong>\, this in-person club welcomes readers of all levels&mdash\;whether you devour every chapter\, prefer audiobooks\, or just come for the insights.<br />\n<br />\nThe first book in the series will be:&nbsp\;&nbsp\;<b data-olk-copy-source="MessageBody">&quot\;Atomic Habits&quot\;&nbsp\;</b>by James Clear</span></span><br />\n<span style="font-family: arial\; font-size: 16px\;">A comprehensive guide on habit formation\, detailing how small changes can lead to significant personal and professional transformations.</span><br />\n&nbsp\;</p>\n\n<p data-end="781" data-start="666"><span style="font-family:arial\;"><span style="font-size:16px\;">Led by&nbsp\;<span class="markaiuty52ut" data-markjs="true" data-ogab="" data-ogac="" data-ogsb="" data-ogsc="" data-olk-copy-source="MessageBody" style="border: 0px\; font-variant-numeric: inherit\; font-variant-east-asian: inherit\; font-variant-alternates: inherit\; font-variant-position: inherit\; font-variant-emoji: inherit\; font-stretch: inherit\; line-height: inherit\; font-optical-sizing: inherit\; font-size-adjust: inherit\; font-kerning: inherit\; font-feature-settings: inherit\; font-variation-settings: inherit\; margin: 0px\; padding: 0px\; vertical-align: baseline\; background-color: rgb(255\, 255\, 255)\;">Stephanie</span><span style="background-color: rgb(255\, 255\, 255)\;">&nbsp\;Elliston\, the owner of The Steady Elevation is a Certified Professional Coach with decades of experience dedicated to engaging individuals and enhancing self-awareness. She excels at leading both large and small groups within organizations\, fostering dynamic and impactful interactions. From facilitating&nbsp\;</span><span class="markqgrqelj3t" data-markjs="true" data-ogab="" data-ogac="" data-ogsb="" data-ogsc="" style="border: 0px\; font-variant-numeric: inherit\; font-variant-east-asian: inherit\; font-variant-alternates: inherit\; font-variant-position: inherit\; font-variant-emoji: inherit\; font-stretch: inherit\; line-height: inherit\; font-optical-sizing: inherit\; font-size-adjust: inherit\; font-kerning: inherit\; font-feature-settings: inherit\; font-variation-settings: inherit\; margin: 0px\; padding: 0px\; vertical-align: baseline\; background-color: rgb(255\, 255\, 255)\;">book</span><span style="background-color: rgb(255\, 255\, 255)\;">&nbsp\;and journal&nbsp\;</span><span class="mark5ymcotwlx" data-markjs="true" data-ogab="" data-ogac="" data-ogsb="" data-ogsc="" style="border: 0px\; font-variant-numeric: inherit\; font-variant-east-asian: inherit\; font-variant-alternates: inherit\; font-variant-position: inherit\; font-variant-emoji: inherit\; font-stretch: inherit\; line-height: inherit\; font-optical-sizing: inherit\; font-size-adjust: inherit\; font-kerning: inherit\; font-feature-settings: inherit\; font-variation-settings: inherit\; margin: 0px\; padding: 0px\; vertical-align: baseline\; background-color: rgb(255\, 255\, 255)\;">club</span><span style="background-color: rgb(255\, 255\, 255)\;">s to guiding group dynamics and orchestrating change processes\,&nbsp\;</span><span class="markaiuty52ut" data-markjs="true" data-ogab="" data-ogac="" data-ogsb="" data-ogsc="" style="border: 0px\; font-variant-numeric: inherit\; font-variant-east-asian: inherit\; font-variant-alternates: inherit\; font-variant-position: inherit\; font-variant-emoji: inherit\; font-stretch: inherit\; line-height: inherit\; font-optical-sizing: inherit\; font-size-adjust: inherit\; font-kerning: inherit\; font-feature-settings: inherit\; font-variation-settings: inherit\; margin: 0px\; padding: 0px\; vertical-align: baseline\; background-color: rgb(255\, 255\, 255)\;">Stephanie</span><span style="background-color: rgb(255\, 255\, 255)\;">&nbsp\;creates spaces where collaboration and growth thrive.</span></span></span><br />\n<br />\n<span style="font-size:16px\;"><span style="font-family:arial\;">Each book club session will include:</span></span></p>\n\n<ul data-end="998" data-start="782">\n	<li data-end="840" data-start="782">\n	<p data-end="840" data-start="784"><span style="font-size:16px\;"><span style="font-family:arial\;">Thoughtful discussions (no pressure to finish the book!)</span></span></p>\n	</li>\n	<li data-end="880" data-start="841">\n	<p data-end="880" data-start="843"><span style="font-size:16px\;"><span style="font-family:arial\;">Key point handouts for easy takeaways</span></span></p>\n	</li>\n	<li data-end="935" data-start="881">\n	<p data-end="935" data-start="883"><span style="font-size:16px\;"><span style="font-family:arial\;">Personal journaling prompts to deepen self-awareness</span></span></p>\n	</li>\n	<li data-end="998" data-start="936">\n	<p data-end="998" data-start="938"><span style="font-size:16px\;"><span style="font-family:arial\;">A welcoming space to connect with others on a growth journey</span></span></p>\n	</li>\n</ul>\n\n<p data-end="1151" data-start="1000"><span style="font-size:16px\;"><span style="font-family:arial\;"><strong data-end="1009" data-start="1000">When:</strong> Monthly on Wednesdays: July\, August\, and September<br data-end="1071" data-start="1068" />\n<strong data-end="1081" data-start="1071">Where:</strong> Vendella&rsquo\;s Coffee Haus<br data-end="1107" data-start="1104" />\n<strong data-end="1116" data-start="1107">Time:</strong> 1.5-hour sessions from 3 pm to 4:30 pm</span></span></p>\n\n<p data-end="1295" data-start="1153"><span style="font-size:16px\;"><span style="font-family:arial\;">Whether you&#39\;re a seasoned reader or just looking to reflect and rise with others\, this is your invitation to elevate your summer&mdash\;and yourself.</span></span></p>\n<span style="color: rgb(255\, 0\, 0)\; font-family: arial\; font-size: 16px\; background-color: rgb(255\, 255\, 255)\;">*Reminder that you will need to provide your own book through the library\, local bookstore\, or audible!</span><br />\n<br />\n&nbsp\;
LOCATION:Vendella Euro Boutique & Coffee Haus 1440 Duckwood Drive\, Suite 600 Eagan\, MN 55122
UID:e.471.783933
SEQUENCE:3
DTSTAMP:20260422T120011Z
URL:https://business.dcrchamber.com/events/details/reflecting-elevating-book-club-783933
END:VEVENT

END:VCALENDAR
