BEGIN:VCALENDAR
VERSION:2.0
PRODID:-//ChamberMaster//Event Calendar 2.0//EN
METHOD:PUBLISH
X-PUBLISHED-TTL:P3D
REFRESH-INTERVAL:P3D
CALSCALE:GREGORIAN
BEGIN:VEVENT
DTSTART:20260507T170000Z
DTEND:20260507T190000Z
X-MICROSOFT-CDO-ALLDAYEVENT:FALSE
SUMMARY:Open House & Ribbon Cutting at 21st Century Bank - Eagan
DESCRIPTION:You're Invited: Open House & Ribbon Cutting \n\n21st Century Bank   Eagan\n\nEAGAN\, MN   21st Century Bank\, a family-owned community bank\, is pleased to announce it has officially opened its doors in Eagan. The new full-service branch is at 3390 Heritage Lane\, Eagan\, MN 55121.\n\nTo celebrate this milestone and its commitment to the Eagan business community\, 21st Century Bank invites fellow Chamber members\, local businesses\, and neighbors to its Open House/Ribbon Cutting on Thursday\, May 7th\, from 12:00 PM to 2:00 PM.\n\n"We are incredibly excited to plant our roots deeply in the Eagan and South Metro community\," said Jon Dolphin\, President\, 21st Century Bank   Eagan. "We understand that a community bank is a true economic partner for small and medium-sized businesses and consumer customers\, and we look forward to meeting our new neighbors."\n\nEvent Details\n\n\n	Thursday\, May 7th | 12:00 PM   2:00 PM\n	3390 Heritage Lane\, Eagan\, MN 55121\n	Ribbon Cutting: 12:15 -12:30\n	21st Century Bank is partnering with the local business Mason Jar Kitchen & Bar to provide complimentary box lunches\, dessert\, and refreshments. \n	Come meet our Team Members and enter a drawing for tickets to the upcoming Minnesota Twins game!
X-ALT-DESC;FMTTYPE=text/html:<p style="text-align: center\;"><span style="font-size:20px\;"><strong data-end="200" data-start="111">You&rsquo\;re Invited: Open House &amp\; Ribbon Cutting&nbsp\;<br />\n21st Century&nbsp\;Bank &ndash\; Eagan</strong></span></p>\n\n<p style="color: rgb(36\, 36\, 36)\; font-family: &quot\;Segoe UI&quot\;\, &quot\;Segoe UI Web (West European)&quot\;\, -apple-system\, BlinkMacSystemFont\, Roboto\, &quot\;Helvetica Neue&quot\;\, sans-serif\; font-size: 15px\;"><b><span style="border: 0px\; font-style: inherit\; font-variant: inherit\; font-weight: inherit\; font-stretch: inherit\; font-size: 11pt\; line-height: inherit\; font-family: inherit\; font-optical-sizing: inherit\; font-size-adjust: inherit\; font-kerning: inherit\; font-feature-settings: inherit\; font-variation-settings: inherit\; font-language-override: inherit\; margin: 0px\; padding: 0px\; vertical-align: baseline\; color: inherit\;">EAGAN\, MN &ndash\;</span></b><span style="border: 0px\; font-style: inherit\; font-variant: inherit\; font-weight: inherit\; font-stretch: inherit\; font-size: 11pt\; line-height: inherit\; font-family: inherit\; font-optical-sizing: inherit\; font-size-adjust: inherit\; font-kerning: inherit\; font-feature-settings: inherit\; font-variation-settings: inherit\; font-language-override: inherit\; margin: 0px\; padding: 0px\; vertical-align: baseline\; color: inherit\;">&nbsp\;21st Century Bank\, a family-owned community bank\, is pleased to announce it has officially opened its doors in Eagan. The new full-service branch is at&nbsp\;<b>3390 Heritage Lane\, Eagan\, MN 55121</b>.</span></p>\n\n<p style="color: rgb(36\, 36\, 36)\; font-family: &quot\;Segoe UI&quot\;\, &quot\;Segoe UI Web (West European)&quot\;\, -apple-system\, BlinkMacSystemFont\, Roboto\, &quot\;Helvetica Neue&quot\;\, sans-serif\; font-size: 15px\;"><span style="border: 0px\; font-style: inherit\; font-variant: inherit\; font-weight: inherit\; font-stretch: inherit\; font-size: 11pt\; line-height: inherit\; font-family: inherit\; font-optical-sizing: inherit\; font-size-adjust: inherit\; font-kerning: inherit\; font-feature-settings: inherit\; font-variation-settings: inherit\; font-language-override: inherit\; margin: 0px\; padding: 0px\; vertical-align: baseline\; color: inherit\;">To celebrate this milestone and its commitment to the Eagan business community\, 21st Century Bank invites fellow Chamber members\, local businesses\, and neighbors to its Open House/Ribbon Cutting on&nbsp\;<b>Thursday\, May 7th\, from 12:00 PM to 2:00 PM.</b></span></p>\n\n<p style="color: rgb(36\, 36\, 36)\; font-family: &quot\;Segoe UI&quot\;\, &quot\;Segoe UI Web (West European)&quot\;\, -apple-system\, BlinkMacSystemFont\, Roboto\, &quot\;Helvetica Neue&quot\;\, sans-serif\; font-size: 15px\;"><i><span style="border: 0px\; font-style: inherit\; font-variant: inherit\; font-weight: inherit\; font-stretch: inherit\; font-size: 11pt\; line-height: inherit\; font-family: inherit\; font-optical-sizing: inherit\; font-size-adjust: inherit\; font-kerning: inherit\; font-feature-settings: inherit\; font-variation-settings: inherit\; font-language-override: inherit\; margin: 0px\; padding: 0px\; vertical-align: baseline\; color: inherit\;">&quot\;We are incredibly excited to plant our roots deeply in the Eagan and South Metro community\,&quot\; said Jon Dolphin\, President\, 21st Century Bank &ndash\; Eagan. &quot\;We understand that a community bank is a true economic partner for small and medium-sized businesses and consumer customers\, and we look forward to meeting our new neighbors.&rdquo\;</span></i></p>\n\n<p style="color: rgb(36\, 36\, 36)\; font-family: &quot\;Segoe UI&quot\;\, &quot\;Segoe UI Web (West European)&quot\;\, -apple-system\, BlinkMacSystemFont\, Roboto\, &quot\;Helvetica Neue&quot\;\, sans-serif\; font-size: 15px\;"><span style="border: 0px\; font-style: inherit\; font-variant: inherit\; font-weight: inherit\; font-stretch: inherit\; font-size: 11pt\; line-height: inherit\; font-family: inherit\; font-optical-sizing: inherit\; font-size-adjust: inherit\; font-kerning: inherit\; font-feature-settings: inherit\; font-variation-settings: inherit\; font-language-override: inherit\; margin: 0px\; padding: 0px\; vertical-align: baseline\; color: inherit\;">Event Details</span></p>\n\n<ul style="color: rgb(36\, 36\, 36)\; font-family: &quot\;Segoe UI&quot\;\, &quot\;Segoe UI Web (West European)&quot\;\, -apple-system\, BlinkMacSystemFont\, Roboto\, &quot\;Helvetica Neue&quot\;\, sans-serif\; font-size: 15px\; margin-bottom: 0px\;" type="disc">\n	<li style="font-size: 12pt\; font-family: Aptos\, sans-serif\; margin: 0px\;"><b><span style="border: 0px\; font-style: inherit\; font-variant: inherit\; font-weight: inherit\; font-stretch: inherit\; font-size: 11pt\; line-height: inherit\; font-family: inherit\; font-optical-sizing: inherit\; font-size-adjust: inherit\; font-kerning: inherit\; font-feature-settings: inherit\; font-variation-settings: inherit\; font-language-override: inherit\; margin: 0px\; padding: 0px\; vertical-align: baseline\; color: inherit\;">Thursday\, May 7th | 12:00 PM &ndash\; 2:00 PM</span></b></li>\n	<li style="font-size: 12pt\; font-family: Aptos\, sans-serif\; margin: 0px\;"><span style="border: 0px\; font-style: inherit\; font-variant: inherit\; font-weight: inherit\; font-stretch: inherit\; font-size: 11pt\; line-height: inherit\; font-family: inherit\; font-optical-sizing: inherit\; font-size-adjust: inherit\; font-kerning: inherit\; font-feature-settings: inherit\; font-variation-settings: inherit\; font-language-override: inherit\; margin: 0px\; padding: 0px\; vertical-align: baseline\; color: inherit\;">3390 Heritage Lane\, Eagan\, MN 55121</span></li>\n	<li style="font-size: 12pt\; font-family: Aptos\, sans-serif\; margin: 0px\;"><b><span style="border: 0px\; font-style: inherit\; font-variant: inherit\; font-weight: inherit\; font-stretch: inherit\; font-size: 11pt\; line-height: inherit\; font-family: inherit\; font-optical-sizing: inherit\; font-size-adjust: inherit\; font-kerning: inherit\; font-feature-settings: inherit\; font-variation-settings: inherit\; font-language-override: inherit\; margin: 0px\; padding: 0px\; vertical-align: baseline\; color: inherit\;">Ribbon Cutting:</span></b><span style="border: 0px\; font-style: inherit\; font-variant: inherit\; font-weight: inherit\; font-stretch: inherit\; font-size: 11pt\; line-height: inherit\; font-family: inherit\; font-optical-sizing: inherit\; font-size-adjust: inherit\; font-kerning: inherit\; font-feature-settings: inherit\; font-variation-settings: inherit\; font-language-override: inherit\; margin: 0px\; padding: 0px\; vertical-align: baseline\; color: inherit\;">&nbsp\;12:15 -12:30</span></li>\n	<li style="font-size: 12pt\; font-family: Aptos\, sans-serif\; margin: 0px\;"><span style="border: 0px\; font-style: inherit\; font-variant: inherit\; font-weight: inherit\; font-stretch: inherit\; font-size: 11pt\; line-height: inherit\; font-family: inherit\; font-optical-sizing: inherit\; font-size-adjust: inherit\; font-kerning: inherit\; font-feature-settings: inherit\; font-variation-settings: inherit\; font-language-override: inherit\; margin: 0px\; padding: 0px\; vertical-align: baseline\; color: inherit\;">21st Century Bank is partnering with the local business Mason Jar Kitchen &amp\; Bar to provide complimentary box lunches\, dessert\, and refreshments.&nbsp\;</span></li>\n	<li style="font-size: 12pt\; font-family: Aptos\, sans-serif\; margin: 0px\;"><span style="border: 0px\; font-style: inherit\; font-variant: inherit\; font-weight: inherit\; font-stretch: inherit\; font-size: 11pt\; line-height: inherit\; font-family: inherit\; font-optical-sizing: inherit\; font-size-adjust: inherit\; font-kerning: inherit\; font-feature-settings: inherit\; font-variation-settings: inherit\; font-language-override: inherit\; margin: 0px\; padding: 0px\; vertical-align: baseline\; color: inherit\;"><span style="border: 0px\; font-style: inherit\; font-variant: inherit\; font-weight: inherit\; font-stretch: inherit\; font-size: 11pt\; line-height: inherit\; font-family: inherit\; font-optical-sizing: inherit\; font-size-adjust: inherit\; font-kerning: inherit\; font-feature-settings: inherit\; font-variation-settings: inherit\; font-language-override: inherit\; margin: 0px\; padding: 0px\; vertical-align: baseline\; color: inherit\;"><b><span style="border: 0px\; font-style: inherit\; font-variant: inherit\; font-weight: inherit\; font-stretch: inherit\; font-size: 11pt\; line-height: inherit\; font-family: inherit\; font-optical-sizing: inherit\; font-size-adjust: inherit\; font-kerning: inherit\; font-feature-settings: inherit\; font-variation-settings: inherit\; font-language-override: inherit\; margin: 0px\; padding: 0px\; vertical-align: baseline\; color: inherit\;">Come meet our Team Members and enter a drawing for tickets to the upcoming Minnesota Twins game!</span></b></span></span></li>\n</ul>\n
LOCATION:21st Century Bank 3390 Heritage Lane Eagan\, MN 55121
UID:e.471.784434
SEQUENCE:3
DTSTAMP:20260422T002752Z
URL:https://business.dcrchamber.com/events/details/open-house-ribbon-cutting-at-21st-century-bank-eagan-784434
END:VEVENT

END:VCALENDAR
