BEGIN:VCALENDAR
VERSION:2.0
PRODID:-//ChamberMaster//Event Calendar 2.0//EN
METHOD:PUBLISH
X-PUBLISHED-TTL:P3D
REFRESH-INTERVAL:P3D
CALSCALE:GREGORIAN
BEGIN:VEVENT
DTSTART:20231114T230000Z
DTEND:20231115T020000Z
X-MICROSOFT-CDO-ALLDAYEVENT:FALSE
SUMMARY:Neighbors Meat Raffle
DESCRIPTION:Mark your calendars for the first-ever Neighbors\, Inc. Meat Raffle! We are thrilled to invite you to join us at Stockyards Tavern & Chophouse on Tuesday\, November 14th for an evening of fun\, food\, and lots of meat! All while supporting the programs and services of Neighbors. This is a fantastic opportunity to give back to the community while having a chance to win some great prizes from our local butchers. The raffle begins at 5:00 p.m.  We hope to "meat" you there!
X-ALT-DESC;FMTTYPE=text/html:Mark your calendars for the first-ever&nbsp\;Neighbors\, Inc. Meat Raffle! We are thrilled to&nbsp\;invite you to join us at Stockyards Tavern &amp\; Chophouse&nbsp\;on Tuesday\, November 14th&nbsp\;for an evening of fun\, food\, and lots of meat! All while supporting the programs and services of&nbsp\;Neighbors. This is a fantastic opportunity to give back to the community while&nbsp\;having a chance to win some great prizes from our local butchers. The raffle begins&nbsp\;at 5:00 p.m.&nbsp\; We hope to &quot\;meat&quot\;&nbsp\;you there!
LOCATION:Stockyards Tavern & Chophouse - 456 Concord Exchange S\, South St Paul\, MN 55075
UID:e.471.783450
SEQUENCE:3
DTSTAMP:20260422T015408Z
URL:https://business.dcrchamber.com/events/details/neighbors-meat-raffle-783450
END:VEVENT

END:VCALENDAR
