BEGIN:VCALENDAR
VERSION:2.0
PRODID:-//ChamberMaster//Event Calendar 2.0//EN
METHOD:PUBLISH
X-PUBLISHED-TTL:P3D
REFRESH-INTERVAL:P3D
CALSCALE:GREGORIAN
BEGIN:VEVENT
DTSTART:20210128T150000Z
DTEND:20210128T163000Z
X-MICROSOFT-CDO-ALLDAYEVENT:FALSE
SUMMARY:Member Listed Event: Work Smarter Not Harder
DESCRIPTION:I am on a MISSION to raise Small Businesses back into the INFLUENCER seat we deserve! How do we do that? By having a plan\, accomplishing BIG goals\, and hiring our neighbors!\n\n\n\nMy ACTION packed\, no-fluff-zone\, free seminar is coming up next week. You will walk away with strategies you can implement NOW to be apart of this movement.\n\n\n\nSign up TODAY
X-ALT-DESC;FMTTYPE=text/html:<span style="color:rgba(0\, 0\, 0\, 0.9)\; font-family:-apple-system\,system-ui\,blinkmacsystemfont\,segoe ui\,roboto\,helvetica neue\,fira sans\,ubuntu\,oxygen\,oxygen sans\,cantarell\,droid sans\,apple color emoji\,segoe ui emoji\,segoe ui symbol\,lucida grande\,helvetica\,arial\,sans-serif\; font-size:14px">I am on a MISSION to raise Small Businesses back into the INFLUENCER seat we deserve! How do we do that? By having a plan\, accomplishing BIG goals\, and hiring our neighbors!</span><br />\n<br />\n<span style="color:rgba(0\, 0\, 0\, 0.9)\; font-family:-apple-system\,system-ui\,blinkmacsystemfont\,segoe ui\,roboto\,helvetica neue\,fira sans\,ubuntu\,oxygen\,oxygen sans\,cantarell\,droid sans\,apple color emoji\,segoe ui emoji\,segoe ui symbol\,lucida grande\,helvetica\,arial\,sans-serif\; font-size:14px">My ACTION packed\, no-fluff-zone\, free seminar is coming up next week. You will walk away with strategies you can implement NOW to be apart of this movement.</span><br />\n<br />\n<span style="color:rgba(0\, 0\, 0\, 0.9)\; font-family:-apple-system\,system-ui\,blinkmacsystemfont\,segoe ui\,roboto\,helvetica neue\,fira sans\,ubuntu\,oxygen\,oxygen sans\,cantarell\,droid sans\,apple color emoji\,segoe ui emoji\,segoe ui symbol\,lucida grande\,helvetica\,arial\,sans-serif\; font-size:14px">Sign up TODAY</span>
LOCATION:Online via Zoom.
UID:e.471.782391
SEQUENCE:3
DTSTAMP:20260425T123357Z
URL:https://business.dcrchamber.com/events/details/member-listed-event-work-smarter-not-harder-782391
END:VEVENT

END:VCALENDAR
