BEGIN:VCALENDAR
VERSION:2.0
PRODID:-//ChamberMaster//Event Calendar 2.0//EN
METHOD:PUBLISH
X-PUBLISHED-TTL:P3D
REFRESH-INTERVAL:P3D
CALSCALE:GREGORIAN
BEGIN:VEVENT
DTSTART;VALUE=DATE:20200502
DTEND;VALUE=DATE:20200503
TRANSP:TRANSPARENT
X-MICROSOFT-CDO-ALLDAYEVENT:TRUE
SUMMARY:Member Listed Event: Kids 'N Kinship Virtual Bowlathon
DESCRIPTION:Join us for the Kids 'n Kinship Virtual Bowlathon Fundraiser on\n\nSaturday\, May 2nd\, 2020\n\nThis year\, our annual Bowlathon will be Virtual! Kids 'n Kinship children and mentors\, as well as families on the waiting list\, and our community friends and supporters are encouraged to set up a "Bowl- at- Home" activity.\n\nCommunity groups and corporate teams are invited to do their own Virtual Bowling party! Post your videos and photos online. Tag Kids 'n Kinship and use #2020bowlathonKNK\n\n\n\n\n\nLOCATION:\n\nYour own home\, WII game\, lawn or park close to you.\n\nSet a time that you and others on your team will bowl "together virtually"\n\nBe creative\, use what you have at home to create bowling pins and find a ball to use.\n\nThere will be a special prize for highest amount raised and for creativity!\n\nREGISTRATION:\n\nWith the virtual bowlathon your registration fee of $25 would continue to provide youth with matches and support.\n\nYou can pay the $25 registration fee using one of these:\n\nhttps://www.givemn.org/story/Kidsnkinshipbowlathon\n\n\n\nMail a check to:\n\nKids 'n Kinship\n\n14870 Granada Avenue #127\n\nApple Valley\, MN 55124\n\n\n\n\n\nYou are encouraged to raise pledges. Have you been thinking about how to benefit a local nonprofit with your stimulus check? Let this be your opportunity!\n\nFor more information\, ideas\, and how to donate: https://coordinator841.wixsite.com/website\n\n\n\n\n\nSpecial thanks to our sponsors for their support!\n\nThe Bowlathon is sponsored by:\n\n\nThanks to\n\nPromotional sponsor\,\n\nBoeckermann\, Grafstrom Mayer CPA's\n\n \n\nLeague Sponsors:\nAffinity Plus Credit Union Eagan\, Affinity Plus Credit Union Lakeville\n\nStrike Sponsors:\nMedia Relations Agency\, Burnsville Noon Rotary\, Superior Service Center and Wings Financial Credit Union\, and\n\nLane Sponsors:\nEagan Kick Start Rotary\, Eagan Lions\, Curlee State Farm\, Old National Bank\, The Credit Department\, Thrivent\, and Ryan Engelstad.\nThank you for your support!\n\n\n\n\nKids 'n Kinship is a mentoring program for children ages 5-16 who are in need of an additional positive adult role model. Volunteers spend time weekly with a child\, providing encouragement\, some fun and skill building activities.\n\nThe Bowlathon is one of Kids 'n Kinship's main fundraisers. The program is in need of funds! Help us meet our goal of raising $10\,000!
X-ALT-DESC;FMTTYPE=text/html:Join us for the Kids &#39\;n Kinship Virtual Bowlathon Fundraiser on<br />\nSaturday\, May 2nd\, 2020<br />\nThis year\, our annual Bowlathon will be Virtual! Kids &lsquo\;n Kinship children and mentors\, as well as families on the waiting list\, and our community friends and supporters are encouraged to set up a &quot\;Bowl- at- Home&quot\; activity.<br />\nCommunity groups and corporate teams are invited to do their own Virtual Bowling party! Post your videos and photos online. Tag Kids &lsquo\;n Kinship and use #2020bowlathonKNK<br />\n<br />\n<br />\nLOCATION:<br />\nYour own home\, WII game\, lawn or park close to you.<br />\nSet a time that you and others on your team will bowl &quot\;together virtually&quot\;<br />\nBe creative\, use what you have at home to create bowling pins and find a ball to use.<br />\n<strong>There will be a special prize for highest amount raised and for creativity!</strong><br />\nREGISTRATION:<br />\nWith the virtual bowlathon your registration fee of $25 would continue to provide youth with matches and support.<br />\nYou can pay the $25 registration fee using one of these:<br />\n<a href="https://www.givemn.org/story/Kidsnkinshipbowlathon" rel="nofollow noopener noreferrer" style="color:var(--eds-control\,#3659e3)\;cursor:pointer\;padding-top:0px\;text-decoration:none\;" target="_blank">https://www.givemn.org/story/Kidsnkinshipbowlathon</a><br />\n<br />\nMail a check to:<br />\nKids &#39\;n Kinship<br />\n14870 Granada Avenue #127<br />\nApple Valley\, MN 55124<br />\n<br />\n<br />\nYou are encouraged to raise pledges. Have you been thinking about how to benefit a local nonprofit with your stimulus check? Let this be your opportunity!<br />\nFor more information\, ideas\, and how to donate: <a href="https://coordinator841.wixsite.com/website" rel="nofollow noopener noreferrer" style="color:var(--eds-control\,#3659e3)\;cursor:pointer\;padding-top:0px\;text-decoration:none\;" target="_blank">https://coordinator841.wixsite.com/website</a><br />\n<br />\n<br />\nSpecial thanks to our sponsors for their support!<br />\nThe Bowlathon is sponsored by:\n<div style="margin-left:0px\; margin-right:0px\; text-align:left">\n<div style="margin-left:0px\; margin-right:0px">\n<h3 style="margin-left:0px\; margin-right:0px">Thanks to</h3>\n\n<h3 style="margin-left:0px\; margin-right:0px">Promotional sponsor\,</h3>\n\n<h3 style="margin-left:0px\; margin-right:0px">Boeckermann\, Grafstrom Mayer CPA&#39\;s</h3>\n\n<h3 style="margin-left:0px\; margin-right:0px">&nbsp\;</h3>\n\n<h3 style="margin-left:0px\; margin-right:0px"><strong>League Sponsors:</strong></h3>\nAffinity Plus Credit Union Eagan\, Affinity Plus Credit Union Lakeville\n\n<h3 style="margin-left:0px\; margin-right:0px">Strike Sponsors:</h3>\nMedia Relations Agency\, Burnsville Noon Rotary\, Superior Service Center and Wings Financial Credit Union\, and\n\n<h3 style="margin-left:0px\; margin-right:0px">Lane Sponsors:</h3>\nEagan Kick Start Rotary\, Eagan Lions\, Curlee State Farm\, Old National Bank\, The Credit Department\, Thrivent\, and Ryan Engelstad.</div>\n<strong>Thank you for your support!</strong></div>\n<br />\n<br />\nKids &#39\;n Kinship is a mentoring program for children ages 5-16 who are in need of an additional positive adult role model. Volunteers spend time weekly with a child\, providing encouragement\, some fun and skill building activities.<br />\nThe Bowlathon is one of Kids &#39\;n Kinship&#39\;s main fundraisers. The program is in need of funds! Help us meet our goal of raising $10\,000!
LOCATION:At Your Home
UID:e.471.782057
SEQUENCE:3
DTSTAMP:20260425T232428Z
URL:https://business.dcrchamber.com/events/details/member-listed-event-kids-n-kinship-21st-annual-bowlathon-782057
END:VEVENT

END:VCALENDAR
