BEGIN:VCALENDAR
VERSION:2.0
PRODID:-//ChamberMaster//Event Calendar 2.0//EN
METHOD:PUBLISH
X-PUBLISHED-TTL:P3D
REFRESH-INTERVAL:P3D
CALSCALE:GREGORIAN
BEGIN:VEVENT
DTSTART:20201119T180000Z
DTEND:20201119T190000Z
X-MICROSOFT-CDO-ALLDAYEVENT:FALSE
SUMMARY:Member Listed Event: Guild Services Virtual Ladder of Hope Fundraiser
DESCRIPTION:Guild Services Virtual Ladder of Hope Fundraiser\n\n\n\nJoin us from the safety of your own home for our first-ever digital Ladder of Hope event.  \n\n\n\nWho: Guild\, a nonprofit organization serving individuals living with mental illness and those experiencing chronic homelessness. Guild's Ladder of Hope\, a virtual fundraising event.\n\n\n\nWhen: Thursday\, November 19th\, from noon to 1PM.\n\n\n\nWhere: Online! You can go to our website (guildservices.org) on the day of the event. There will be a button to click on our home page to join the event.\n\n\n\nWhy: To help raise funds for Guild's lifesaving services that help hundreds of people every day to stabilize their mental health\, find affordable housing\, and secure competitive jobs in the community of their choosing.\n\n\n\nClick here to learn more about Guild Services Ladder of Hope Event.
X-ALT-DESC;FMTTYPE=text/html:<span style="font-family:arial\,sans-serif"><span style="font-size:24pt">Guild Services Virtual Ladder of Hope Fundraiser</span></span><br />\n<br />\n<span style="font-family:arial\,sans-serif"><span style="font-size:10pt">Join us from the safety of your own home for our first-ever digital Ladder of Hope event.&nbsp\;&nbsp\;<br />\n<br />\nWho: Guild\, a nonprofit organization serving individuals living with mental illness and those experiencing chronic homelessness. Guild&rsquo\;s Ladder of Hope\, a virtual fundraising event.<br />\n<br />\nWhen:&nbsp\;Thursday\, November 19th\, from noon to 1PM.<br />\n<br />\nWhere:&nbsp\;Online! You can go to our website (guildservices.org)&nbsp\;on the day of the event. There will be a button to click on our home page to join the event.<br />\n<br />\nWhy: To help raise funds for Guild&rsquo\;s lifesaving services that help hundreds of people every day to stabilize their mental health\, find affordable housing\, and secure competitive jobs in the community of their choosing.</span></span><br />\n<br />\n<span style="font-family:times new roman\,serif"><span style="font-size:12.0pt"><a href="https://guildservices.org/events/ladder-of-hope/"><span style="font-family:arial\,sans-serif"><span style="font-size:10pt">Click here to learn more about Guild Services Ladder of Hope Event.</span></span></a></span></span>
LOCATION:Online! Visit www.guildservices.org on November 19. Click on the Ladder of Hope link on the home page.
UID:e.471.782183
SEQUENCE:3
DTSTAMP:20260425T152111Z
URL:https://business.dcrchamber.com/events/details/member-listed-event-guild-services-virtual-ladder-of-hope-fundraiser-782183
END:VEVENT

END:VCALENDAR
