BEGIN:VCALENDAR
VERSION:2.0
PRODID:-//ChamberMaster//Event Calendar 2.0//EN
METHOD:PUBLISH
X-PUBLISHED-TTL:P3D
REFRESH-INTERVAL:P3D
CALSCALE:GREGORIAN
BEGIN:VEVENT
DTSTART:20201114T160000Z
DTEND:20201115T020000Z
X-MICROSOFT-CDO-ALLDAYEVENT:FALSE
SUMMARY:Member Listed Event: Free Authentication Event!
DESCRIPTION:Style Encore\, Eagan invites you to a Free Luxury Handbag Authentication Event using the Entrupy AI-powered verification solution on Sat. Nov. 14th @ 10AM - 8PM.\n\n\n\nHere at Style Encore\, Eagan\, we LOVE YOUR Designer Handbags\, and we pay you CASH on the SPOT for them! Have some www.entrupy.com
X-ALT-DESC;FMTTYPE=text/html:<p style="text-align:center">Style Encore\, Eagan invites you to a Free Luxury Handbag Authentication Event using the Entrupy AI-powered verification solution on Sat. Nov. 14th @ 10AM - 8PM.<br />\n<br />\nHere at Style Encore\, Eagan\, we LOVE YOUR Designer Handbags\, and we pay you CASH on the SPOT for them!&nbsp\;Have some&nbsp\;<a 14th="" a="" and="" apple="" authenticated="" authentication="" brands="" by="" class="oajrlxb2 g5ia77u1 qu0x051f esr5mh6w e9989ue4 r7d6kgcz rq0escxv nhd2j8a9 nc684nl6 p7hjln8o kvgmc6g5 cxmmr5t8 oygrvhab hcukyx3x jb3vyjys rz4wbd8a qt6c0cv9 a8nywdso i1ao9s8h esuyzwwr f1sip0of lzcic4wl py34i1dx gpro0wi8" closet="" color="" color:="" come="" complete="" designer="" entrupy="" financially="" first="" for="" free="" get="" goods.="" handbags="" helvetica="" href="http://www.entrupy.com/?fbclid=IwAR1crZ1reAKFC0K4xH_h4ZMGuPClPmELUWlK3sfo6R9lsg2Hwxm5mN8Z6bc" is="" list="" luxury="" noto="" nov="" of="" on="" only="" please="" rel="nofollow noopener" s="" see="" segoe="" sell="" solution="" style="box-sizing: inherit\; text-decoration-line: none\; background-color: transparent\; font-family: AvenirLTStd-Book\, -apple-system\, BlinkMacSystemFont\, " tabindex="0" taking="" target="_blank" technology-driven="" the="" them="" to="" ui="" up="" us="">www.entrupy.com</a></p>\n\n<p style="text-align:center">&nbsp\;</p>\n
LOCATION:1960 Cliff Lake Road #125 Eagan\, MN 55122
UID:e.471.782189
SEQUENCE:3
DTSTAMP:20260425T145819Z
URL:https://business.dcrchamber.com/events/details/member-listed-event-free-authentication-event-782189
END:VEVENT

END:VCALENDAR
