BEGIN:VCALENDAR
VERSION:2.0
PRODID:-//ChamberMaster//Event Calendar 2.0//EN
METHOD:PUBLISH
X-PUBLISHED-TTL:P3D
REFRESH-INTERVAL:P3D
CALSCALE:GREGORIAN
BEGIN:VEVENT
DTSTART:20240507T224000Z
DTEND:20240508T024000Z
X-MICROSOFT-CDO-ALLDAYEVENT:FALSE
SUMMARY:Meet the DCR Chamber Board Twins Game
DESCRIPTION:Watch the Twins take on the Mariners while meeting and talking with the DCR Board and other DCR Members\, Join us on May 7 for a fun night of networking\, meeting the board\, and spending time on the Corona Deck. Plus there is an optional Target Field Tour before the game. \n\n\n\nWhat:  Meet the DCR Chamber Board at Target Field\n\nWhen: The game will be held on May 7\, 2024\, our Twins against the Seattle Mariners.  Game time:  6:40pm\n\nWhere:  Right Field Corona Deck   free access to walk around and mingle\n\nCost:  $50 each ticket\, includes admission to deck and a $10 gift card for food and beverage\n\nWho:  DCR Members and DCR not-yet-Members. Capped at the first 60 to sign up!\n\nBONUS:  There will be a Target Field tour for those interested at 5:40pm\, before the game.
X-ALT-DESC;FMTTYPE=text/html:<p style="margin: 0px\; padding: 0px\; color: rgb(62\, 62\, 62)\; font-family: Arial\, Verdana\, Helvetica\, sans-serif\; font-size: 14px\; white-space-collapse: preserve\;">&nbsp\;</p>\n\n<p style="margin: 0px\; padding: 0px\; font-family: Arial\, Verdana\, Helvetica\, sans-serif\; font-size: 14px\; white-space-collapse: preserve\;"><span style="font-size:14px\;"><span style="font-family:tahoma\;"><font color="#3e3e3e">Watch the Twins take on the Mariners while meeting and talking with the DCR Board and other DCR Members\, Join us</font><span style="color: rgb(62\, 62\, 62)\;"> on May 7 for a fun night of networking\, meeting the board\, and spending time on the Corona Deck. Plus there is an optional Target Field Tour before the game. </span><br />\n<br />\nWhat:&nbsp\; Meet the DCR Chamber Board at Target Field<br />\nWhen: The game will be held on May 7\, 2024\, our Twins against the Seattle Mariners.&nbsp\; Game time:&nbsp\; 6:40pm<br />\nWhere:&nbsp\; Right Field Corona Deck &ndash\; free access to walk around and mingle<br />\nCost:&nbsp\; $50 each ticket\, includes admission to deck and a $10 gift card for food and beverage<br />\nWho:&nbsp\; DCR Members and DCR not-yet-Members. Capped at the first 60 to sign up!<br />\nBONUS:&nbsp\; There will be a Target Field tour for those interested at 5:40pm\, before the game.</span></span><br />\n<br />\n&nbsp\;</p>\n
LOCATION:Target Field - Corona Deck 1 Twins Way Minneapolis\, MN 55403
UID:e.471.783680
SEQUENCE:3
DTSTAMP:20260421T195412Z
URL:https://business.dcrchamber.com/events/details/meet-the-dcr-chamber-board-twins-game-783680
END:VEVENT

END:VCALENDAR
