BEGIN:VCALENDAR
VERSION:2.0
PRODID:-//ChamberMaster//Event Calendar 2.0//EN
METHOD:PUBLISH
X-PUBLISHED-TTL:P3D
REFRESH-INTERVAL:P3D
CALSCALE:GREGORIAN
BEGIN:VEVENT
DTSTART:20251126T144500Z
DTEND:20251126T160000Z
X-MICROSOFT-CDO-ALLDAYEVENT:FALSE
SUMMARY:Meet The Chamber THIS EVENT CANCELLED DUE TO WEATHER CONDITIONS
DESCRIPTION:CANCELLED DUE TO WEATHER\n\n\n\nInterested in learning more about your DCR Chamber in a casual setting? Come check out our monthly Meet the Chamber event.\n\n\n\nMeet The Chamber (New & Prospective Member Orientation) is a monthly meeting to provide an opportunity for new Members\, new company representatives\, and prospective Members to meet and learn all about how to get the most from your DCR Chamber Membership.\n\n\n\nInvolvement in committees\, monthly networking and special regional events\, and marketing/advertising opportunities are just a few of the topics discussed at meeting.\n\n\n\nEach attendee will introduce themselves and give a :30 second overview of their business or position.\n\n\n\nCome check us out!\n\n\n\nSchedule:\n\n8:45 - 9:00 AM     Check-in and networking\n\n9:00 - 10:00 AM   Presentation and Questions and Answers
X-ALT-DESC;FMTTYPE=text/html:<p style="box-sizing: border-box\; margin: 0px 0px 1rem\; letter-spacing: 0.5px\; color: rgb(0\, 51\, 153)\; font-family: Raleway\, sans-serif\; font-size: 16px\;"><span style="color:#09559f\;"><span style="font-size:14px\;"><span style="font-family:tahoma\;"><span style="box-sizing: border-box\;"><span style="box-sizing: border-box\;"><span style="box-sizing: border-box\;">CANCELLED DUE TO WEATHER<br />\n<br />\nInterested in learning more about your&nbsp\;DCR Chamber in a casual setting? Come check out our monthly Meet the Chamber event.</span><br style="box-sizing: border-box\; color: rgb(51\, 51\, 51)\; font-family: sans-serif\, Arial\, Verdana\, &quot\;Trebuchet MS&quot\;\; font-size: 13px\;" />\n<br style="box-sizing: border-box\; color: rgb(51\, 51\, 51)\; font-family: sans-serif\, Arial\, Verdana\, &quot\;Trebuchet MS&quot\;\; font-size: 13px\;" />\n<span style="box-sizing: border-box\;">Meet The Chamber (New &amp\; Prospective Member Orientation) is a monthly meeting to provide an opportunity for new Members\, new company representatives\, and prospective Members to meet and learn all about how to get the most from your DCR Chamber Membership.</span><br style="box-sizing: border-box\; color: rgb(51\, 51\, 51)\; font-family: sans-serif\, Arial\, Verdana\, &quot\;Trebuchet MS&quot\;\; font-size: 13px\;" />\n<br style="box-sizing: border-box\; color: rgb(51\, 51\, 51)\; font-family: sans-serif\, Arial\, Verdana\, &quot\;Trebuchet MS&quot\;\; font-size: 13px\;" />\n<span style="box-sizing: border-box\;">Involvement in committees\, monthly networking and special regional events\, and marketing/advertising opportunities are just a few of the topics discussed at meeting.</span><br style="box-sizing: border-box\; color: rgb(51\, 51\, 51)\; font-family: sans-serif\, Arial\, Verdana\, &quot\;Trebuchet MS&quot\;\; font-size: 13px\;" />\n<br style="box-sizing: border-box\; color: rgb(51\, 51\, 51)\; font-family: sans-serif\, Arial\, Verdana\, &quot\;Trebuchet MS&quot\;\; font-size: 13px\;" />\n<span style="box-sizing: border-box\;">Each attendee will introduce themselves and give a :30 second overview of&nbsp\;their business or position.</span><br style="box-sizing: border-box\; color: rgb(51\, 51\, 51)\; font-family: sans-serif\, Arial\, Verdana\, &quot\;Trebuchet MS&quot\;\; font-size: 13px\;" />\n<br style="box-sizing: border-box\; color: rgb(51\, 51\, 51)\; font-family: sans-serif\, Arial\, Verdana\, &quot\;Trebuchet MS&quot\;\; font-size: 13px\;" />\n<span style="box-sizing: border-box\;">Come check us out!</span><br style="box-sizing: border-box\;" />\n<br />\n<strong>Schedule:</strong><br style="box-sizing: border-box\;" />\n<span style="box-sizing: border-box\;"><span style="box-sizing: border-box\;">8:45 - 9:00 AM</span>&nbsp\; &nbsp\; &nbsp\;Check-in and networking<br style="box-sizing: border-box\;" />\n9:00 - 10:00&nbsp\;AM&nbsp\; &nbsp\;Presentation and Questions and Answers</span></span></span></span></span></span></p>\n\n<div>&nbsp\;</div>\n
LOCATION:CANCELLED DUE TO WEATHER Think Bank (Eagan Community Room\, 2nd Floor) 4245 Johnny Cake Ridge Road Eagan\, MN 55122
UID:e.471.783834
SEQUENCE:3
DTSTAMP:20260424T082945Z
URL:https://business.dcrchamber.com/events/details/meet-the-chamber-this-event-cancelled-due-to-weather-conditions-783834
END:VEVENT

END:VCALENDAR
