BEGIN:VCALENDAR
VERSION:2.0
PRODID:-//ChamberMaster//Event Calendar 2.0//EN
METHOD:PUBLISH
X-PUBLISHED-TTL:P3D
REFRESH-INTERVAL:P3D
CALSCALE:GREGORIAN
BEGIN:VEVENT
DTSTART:20251011T123000Z
DTEND:20251011T200000Z
X-MICROSOFT-CDO-ALLDAYEVENT:FALSE
SUMMARY:Making Strides Against Breast Cancer of the Twin Cities Walk
DESCRIPTION:Breast Cancer is the most common cancer diagnosed among women in the United States. The American Cancer Society's Making Strides Against Breast Cancer is a celebration of courage and hope\, a movement uniting community to end breast cancer as we know it\, for everyone. For three decades\, these non-competitive walks have collectively grown into the nation's largest and most impactful breast cancer movement   providing a supportive community for courageous breast cancer survivors and metastatic breast cancer thrivers\, caregivers\, and families alike. \n\n\n\nBe the movement by signing up for Making Strides Against Breast Cancer. Join your community in saving lives\, remembering loved ones\, and funding the future of breast cancer research and programs by joining the nation's largest and most impactful breast cancer movement. Leading up to October\, raise funds to reach a suggested personal goal of $50.00 or more\, then walk with us on event day in celebration of your efforts.\n\n \n\nBe the hope by sponsoring the Making Strides movement. Become a corporate leader in your\n\ncommunity to ensure we can celebrate together and honor local survivors and thrivers during Breast\n\nCancer Awareness Month. \n\n \n\nBe the future by donating. Help fund our work by making a donation. Every dollar we receive is dedicated \n\nto ending breast cancer as we know it\, for everyone. Visit MakingStridesWalk.org/twincitiesmn  to make a donation today. \n\n \n\nAdditional ways to get involved:\n\n	Join Men Wear Pink. Raise at least $2\,500 now through October\, then wear pink every day during that month. All funds raised directly support breast cancer research and programs.  \n	Support other survivors and thrivers. As a breast cancer survivor or thriver\, you can provide help and hope to people facing breast cancer through the American Cancer Society Reach To Recovery  support program. Visit our Reach To Recovery volunteer page to learn more about the benefits and requirements for this volunteer role. \n	Become an advocate. Join our advocacy affiliate\, the American Cancer Society Cancer Action NetworkSM (ACSCAN)\, and help us make fighting cancer a top priority in Congress and in every state legislature across the nation. From securing federal funding for lifesaving breast cancer research to ensuring every American has access to cancer screening and care\, your voice and actions can help impact public policy for those facing breast cancer.
X-ALT-DESC;FMTTYPE=text/html:<span style="font-size:11.0pt">Breast Cancer is the most common cancer diagnosed among women in the United States. The American Cancer Society&rsquo\;s Making Strides Against Breast Cancer is a celebration of courage and hope\, a movement uniting community to end breast cancer as we know it\, for everyone. For three decades\, these non-competitive walks have collectively grown into the nation&rsquo\;s largest and most impactful breast cancer movement &ndash\; providing a supportive community for courageous breast cancer survivors and metastatic breast cancer thrivers\, caregivers\, and families alike. </span><br />\n<br />\n<strong><span style="font-family:source sans pro\,sans-serif">Be the movement by signing up for Making Strides Against Breast Cancer</span></strong><span style="font-family:source sans pro\,sans-serif">. Join your community in saving lives\, remembering loved ones\, and funding the future of breast cancer research and programs by joining the nation&rsquo\;s largest and most impactful breast cancer movement. Leading up to October\, raise funds to reach a suggested personal goal of $50.00 or more\, then walk with us on event day in celebration of your efforts.</span><br />\n&nbsp\;<br />\n<strong><span style="font-family:source sans pro\,sans-serif">Be the hope by sponsoring the Making Strides movement</span></strong><span style="font-family:source sans pro\,sans-serif">. Become a corporate leader in your</span><br />\n<span style="font-family:source sans pro\,sans-serif">community to ensure we can celebrate together and honor local survivors and thrivers during Breast</span><br />\n<span style="font-family:source sans pro\,sans-serif">Cancer Awareness Month. </span><br />\n&nbsp\;<br />\n<strong><span style="font-family:source sans pro\,sans-serif">Be the future by donating. </span></strong><span style="font-family:source sans pro\,sans-serif">Help fund our work by making a donation. Every dollar we receive is dedicated </span><br />\n<span style="font-family:source sans pro\,sans-serif">to ending breast cancer as we know it\, for everyone. Visit </span><a href="https://secure.acsevents.org/site/SPageServer/?pagename=strides_msabc"><span style="color:#0562C1"><span style="font-family:source sans pro\,sans-serif">MakingStridesWalk.org</span></span></a>/twincitiesmn &nbsp\;<span style="font-family:source sans pro\,sans-serif">to make a donation today<strong>.</strong> </span><br />\n&nbsp\;<br />\n<strong><span style="font-family:source sans pro\,sans-serif">Additional ways to get involved</span></strong>:\n<ul>\n	<li><strong><span style="font-family:source sans pro\,sans-serif">Join Men Wear Pink. </span></strong><span style="font-family:source sans pro\,sans-serif">Raise at least $2\,500 now through October\, then wear pink every day during that month. All funds raised directly support breast cancer research and programs.&nbsp\; </span></li>\n	<li><strong><span style="font-family:source sans pro\,sans-serif">Support other survivors and thrivers. </span></strong><span style="font-family:source sans pro\,sans-serif">As a breast cancer survivor or thriver\, you can provide help and hope to people facing breast cancer through the American Cancer Society Reach To Recovery&reg\; support program. Visit our </span><a href="https://www.cancer.org/involved/volunteer/reach-to-recovery.html"><span style="color:#0562C1"><span style="font-family:source sans pro\,sans-serif">Reach To Recovery volunteer page</span></span></a> <span style="font-family:source sans pro\,sans-serif">to learn more about the benefits and requirements for this volunteer role. </span></li>\n	<li><strong><span style="font-family:source sans pro\,sans-serif">Become an advocate. </span></strong><span style="color:#292828"><span style="font-family:source sans pro\,sans-serif">Join our advocacy affiliate\, the American Cancer Society Cancer Action Network<sup>SM </sup>(</span></span><a href="https://www.fightcancer.org/"><span style="color:#0562C1"><span style="font-family:source sans pro\,sans-serif">ACSCAN</span></span></a><a href="https://www.fightcancer.org/"><span style="color:#0562C1"><span style="font-family:source sans pro\,sans-serif">)</span></span></a><u><span style="color:#0562C1"><span style="font-family:source sans pro\,sans-serif">\, </span></span></u><span style="color:#292828"><span style="font-family:source sans pro\,sans-serif">and help us make fighting cancer a top priority in Congress and in every state legislature across the nation. From securing federal funding for lifesaving breast cancer research to ensuring every American has access to cancer screening and care\, your voice and actions can help impact public policy for those facing breast cancer.</span></span></li>\n</ul>\n
LOCATION:Mall of America Huntington Bank Rotunda
UID:e.471.783995
SEQUENCE:3
DTSTAMP:20260422T105044Z
URL:https://business.dcrchamber.com/events/details/making-strides-against-breast-cancer-of-the-twin-cities-walk-783995
END:VEVENT

END:VCALENDAR
