BEGIN:VCALENDAR
VERSION:2.0
PRODID:-//ChamberMaster//Event Calendar 2.0//EN
METHOD:PUBLISH
X-PUBLISHED-TTL:P3D
REFRESH-INTERVAL:P3D
CALSCALE:GREGORIAN
BEGIN:VEVENT
DTSTART:20241019T150000Z
DTEND:20241019T170000Z
X-MICROSOFT-CDO-ALLDAYEVENT:FALSE
SUMMARY:Make a Monster Cookie Decorating
DESCRIPTION:All kids are invited to decorate their own FREE cookie. festive and fun attire is encouraged! We will have gluten-free and vegan cookie options available with ingredient information listed.
X-ALT-DESC;FMTTYPE=text/html:All kids are invited to decorate their own FREE cookie. festive and fun attire is encouraged! We will have gluten-free and vegan cookie options available with ingredient information listed.
LOCATION:Valley Natural Foods | 13750 County Road 11 Burnsville\, MN 55337
UID:e.471.783718
SEQUENCE:3
DTSTAMP:20260421T132534Z
URL:https://business.dcrchamber.com/events/details/make-a-monster-cookie-decorating-783718
END:VEVENT

END:VCALENDAR
