BEGIN:VCALENDAR
VERSION:2.0
PRODID:-//ChamberMaster//Event Calendar 2.0//EN
METHOD:PUBLISH
X-PUBLISHED-TTL:P3D
REFRESH-INTERVAL:P3D
CALSCALE:GREGORIAN
BEGIN:VEVENT
DTSTART:20231220T180000Z
DTEND:20231220T190000Z
X-MICROSOFT-CDO-ALLDAYEVENT:FALSE
SUMMARY:Kids 'n Kinship Virtual Mentor Information Session
DESCRIPTION:Please join us for an upcoming virtual informational session about becoming a mentor at Kids 'n Kinship.\n\n\n\nMentors are always needed for children in the Dakota County community at Kids 'n Kinship. There are currently 38 children waiting to be matched with a supportive adult\, and 22 of those youth are boys.\n\nWhat it's all about:\n\nKids 'n Kinship is a 50-year-old\, non-profit organization that matches children\, who have a need for an additional supportive relationship with carefully screened adult volunteers. Volunteers spend one hour per week with the child out in the community.\n\nKids 'n Kinship match individuals (21+)\, couples\, or families with youth ages 5-16 in need of positive role model.\n\n\n	We encourage low / no-cost activities like playing a board game\, sledding\, taking a trip to a park\, bike riding\, baking cookies\, playing catch or going to the library\n	We provide training and ongoing support and offer discounted passes to area attractions and events to make activities affordable\n	Mentoring matches are made based on compatible personalities\, ages and interests as well as preferences of both the volunteer mentor and the youth and parent/guardian.\n\n\nThrough their Mentor relationship\, the child will form a long-term friendship with a caring adult\, receive positive attention and develop the sense of self-worth that is essential to successfully function in life.\n\nYou can make a difference in the life of a child or teen living in Apple Valley\, Burnsville\, Eagan\, Farmington\, Lakeville\, or Rosemount.
X-ALT-DESC;FMTTYPE=text/html:<p>Please join us for an upcoming virtual informational session about becoming a mentor at Kids &#39\;n Kinship.<br />\n<br />\nMentors are always needed for children in the Dakota County community at Kids &#39\;n Kinship. There are currently 38 children waiting to be matched with a supportive adult\, and 22 of those youth are boys.</p>\n\n<p><strong><u>What it&#39\;s all about:</u></strong><br />\nKids &#39\;n Kinship is a 50-year-old\, non-profit organization that matches children\, who have a need for an additional supportive relationship with carefully screened adult volunteers. Volunteers spend one hour per week with the child out in the community.<br />\nKids &#39\;n Kinship match individuals (21+)\, couples\, or families with youth ages 5-16 in need of positive role model.</p>\n\n<ul>\n	<li>We encourage low / no-cost activities like playing a board game\, sledding\, taking a trip to a park\, bike riding\, baking cookies\, playing catch or going to the library</li>\n	<li>We provide training and ongoing support and offer discounted passes to area attractions and events to make activities affordable</li>\n	<li>Mentoring matches are made based on compatible personalities\, ages and interests as well as preferences of both the volunteer mentor and the youth and parent/guardian.</li>\n</ul>\n\n<p>Through their Mentor relationship\, the child will form a long-term friendship with a caring adult\, receive positive attention and develop the sense of self-worth that is essential to successfully function in life.</p>\n\n<p>You can make a difference in the life of a child or teen living in Apple Valley\, Burnsville\, Eagan\, Farmington\, Lakeville\, or Rosemount.</p>\n
LOCATION:Virtual Via Zoom When you RSVP to volunteer@kidsnkinship.org\, we will send you a link to join.
UID:e.471.783460
SEQUENCE:3
DTSTAMP:20260422T004536Z
URL:https://business.dcrchamber.com/events/details/kids-n-kinship-virtual-mentor-information-session-783460
END:VEVENT

END:VCALENDAR
