BEGIN:VCALENDAR
VERSION:2.0
PRODID:-//ChamberMaster//Event Calendar 2.0//EN
METHOD:PUBLISH
X-PUBLISHED-TTL:P3D
REFRESH-INTERVAL:P3D
CALSCALE:GREGORIAN
BEGIN:VEVENT
DTSTART:20230727T230000Z
DTEND:20230728T000000Z
X-MICROSOFT-CDO-ALLDAYEVENT:FALSE
SUMMARY:Kids 'n Kinship Mentor Info Session
DESCRIPTION:Anyone interested in learning more about our community and school-based mentoring programs\, as well as becoming a mentor\, is invited to attend an Information Session.\n\nThursday\, July 27 from 6-7pm at Lakeville Heritage Library\n\nThe Information Session is the place to hear about the children and teens who are waiting for mentors\, the volunteer screening process\, activities and benefits provided by Kids 'n Kinship.
X-ALT-DESC;FMTTYPE=text/html:<p>Anyone interested in learning more about our community and school-based mentoring programs\, as well as becoming a mentor\, is invited to attend an Information Session.</p>\n\n<p><strong>Thursday\, July 27 from 6-7pm at Lakeville Heritage Library</strong></p>\n\n<p>The Information Session is the place to hear about the children and teens who are waiting for mentors\, the volunteer screening process\, activities and benefits provided by Kids &lsquo\;n Kinship.&nbsp\;</p>\n
LOCATION:Heritage Library 20085 Heritage Drive Lakeville\, MN 55044
UID:e.471.783397
SEQUENCE:3
DTSTAMP:20260422T114932Z
URL:https://business.dcrchamber.com/events/details/kids-n-kinship-mentor-info-session-783397
END:VEVENT

END:VCALENDAR
