BEGIN:VCALENDAR
VERSION:2.0
PRODID:-//ChamberMaster//Event Calendar 2.0//EN
METHOD:PUBLISH
X-PUBLISHED-TTL:P3D
REFRESH-INTERVAL:P3D
CALSCALE:GREGORIAN
BEGIN:VEVENT
DTSTART:20230619T230000Z
DTEND:20230620T000000Z
X-MICROSOFT-CDO-ALLDAYEVENT:FALSE
SUMMARY:Kids 'n Kinship Info Session
DESCRIPTION:Anyone interested in learning more about our community and school-based mentoring programs\, as well as becoming a mentor\, is invited to attend an Information Session.\n\nMonday\, June 19 from 6-7pm Virtual on Zoom\n\nThe Information Session is the place to hear about the children and teens who are waiting for mentors\, the volunteer screening process\, activities and benefits provided by Kids 'n Kinship.
X-ALT-DESC;FMTTYPE=text/html:<p>Anyone interested in learning more about our community and school-based mentoring programs\, as well as becoming a mentor\, is invited to attend an Information Session.</p>\n\n<p><strong>Monday\, June 19 from 6-7pm Virtual on Zoom</strong></p>\n\n<p>The Information Session is the place to hear about the children and teens who are waiting for mentors\, the volunteer screening process\, activities and benefits provided by Kids &lsquo\;n Kinship.&nbsp\;</p>\n
LOCATION:Virtual on Zoom
UID:e.471.783396
SEQUENCE:3
DTSTAMP:20260422T131010Z
URL:https://business.dcrchamber.com/events/details/kids-n-kinship-info-session-06-19-2023-783396
END:VEVENT

END:VCALENDAR
