BEGIN:VCALENDAR
VERSION:2.0
PRODID:-//ChamberMaster//Event Calendar 2.0//EN
METHOD:PUBLISH
X-PUBLISHED-TTL:P3D
REFRESH-INTERVAL:P3D
CALSCALE:GREGORIAN
BEGIN:VEVENT
DTSTART:20260304T180000Z
DTEND:20260304T190000Z
X-MICROSOFT-CDO-ALLDAYEVENT:FALSE
SUMMARY:Improving Email and Enews
DESCRIPTION:Email is a cornerstone of marketing plans and workplace communication. Examine enewsletters and email correspondence to learn what inspires action and what falls flat.
X-ALT-DESC;FMTTYPE=text/html:Email is a cornerstone of marketing plans and workplace communication. Examine enewsletters and email correspondence to learn what inspires action and what falls flat.
LOCATION:Virtual. Register at Dakota County Library website\, search for events calendar. Zoom link will be provided.
UID:e.471.784376
SEQUENCE:3
DTSTAMP:20260422T030110Z
URL:https://business.dcrchamber.com/events/details/improving-email-and-enews-784376
END:VEVENT

END:VCALENDAR
