BEGIN:VCALENDAR
VERSION:2.0
PRODID:-//ChamberMaster//Event Calendar 2.0//EN
METHOD:PUBLISH
X-PUBLISHED-TTL:P3D
REFRESH-INTERVAL:P3D
CALSCALE:GREGORIAN
BEGIN:VEVENT
DTSTART:20260428T133000Z
DTEND:20260428T200000Z
X-MICROSOFT-CDO-ALLDAYEVENT:FALSE
SUMMARY:High School Job Fairs
DESCRIPTION:2026 Lakeville High School Job Fair\n\n\n\n      \n\n         Description\n\n\n\n\n\n\n\nThis JOB FAIR is designed for local companies who are hiring high school students now\, or for summer 2026 positions. You will have a 6' table with no skirt at each school. You are allowed and encouraged to bring swag for the students to grab at your table. Students will be excused from class to attend these fairs during the school day.\n\nDate and Time\n\nTuesday Apr 28\, 2026\n\n8:30 AM - 3:00 PM CDT\n\n\nLakeville North High School 8:30AM - 11:00AM\n\nLakeville South High School 12:30PM-3:00PM\n\nSet up 30 minutes prior at each location\n\n\nLocation\n\nLakeville North High School 8:30AM - 11:00AM\n\nLakeville South High School 12:30PM-3:00PM\n\nSet up 30 minutes prior at each location\n\n\n\nFees/Admission\n\nFree of charge. Must be hiring high school students.\n\n\n\n\n\n\n\n\n\n\n	REGISTER HERE so we have a table for you.
X-ALT-DESC;FMTTYPE=text/html:<p style="color: rgb(36\, 36\, 36)\; background-color: rgb(255\, 255\, 255)\; font-size: 12pt\; font-family: Aptos\, sans-serif\; margin: 0px\;"><span style="font-size:20px\;"><strong>2026 Lakeville High School Job Fair</strong></span></p>\n\n<div -webkit-box-align:="" align-items:="" class="row gz-event-details-header" color:="" display:="" droid="" flex-wrap:="" font-feature-settings:="" font-kerning:="" font-language-override:="" font-optical-sizing:="" font-size-adjust:="" font-variation-settings:="" style="box-sizing: border-box\; margin: 0px -15px\; padding: 0px\; border: 0px\; outline: 0px\; font-variant-numeric: inherit\; font-variant-east-asian: inherit\; font-variant-alternates: inherit\; font-variant-position: inherit\; font-variant-emoji: inherit\; font-stretch: inherit\; font-size: 14px\; line-height: inherit\; font-family: " vertical-align:="">\n<div class="col pl-0" style="box-sizing: border-box\; margin: 0px\; padding-top: 0px\; padding-right: 15px\; padding-bottom: 0px\; padding-left: 0px !important\; border: 0px\; outline: 0px\; font: inherit\; vertical-align: baseline\; position: relative\; width: 875px\; min-height: 1px\; flex-basis: 0px\; flex-grow: 1\; max-width: 100%\;">\n<div class="d-flex gz-details-head" style="box-sizing: border-box\; margin: 0px\; padding: 0px\; border: 0px\; outline: 0px\; font: inherit\; vertical-align: baseline\; display: flex !important\; align-items: center\; -webkit-box-align: center\;">&nbsp\;&nbsp\;&nbsp\;&nbsp\;&nbsp\;&nbsp\;<br />\n&nbsp\;&nbsp\;&nbsp\;&nbsp\;&nbsp\;&nbsp\;&nbsp\;&nbsp\;&nbsp\;Description</div>\n</div>\n</div>\n\n<div -webkit-box-direction:="" -webkit-box-orient:="" class="row gz-details-links" color:="" display:="" droid="" flex-flow:="" font-feature-settings:="" font-kerning:="" font-language-override:="" font-optical-sizing:="" font-size-adjust:="" font-variation-settings:="" style="box-sizing: border-box\; margin: 0px -15px\; padding: 0px\; border: 0px\; outline: 0px\; font-variant-numeric: inherit\; font-variant-east-asian: inherit\; font-variant-alternates: inherit\; font-variant-position: inherit\; font-variant-emoji: inherit\; font-stretch: inherit\; font-size: 14px\; line-height: inherit\; font-family: " vertical-align:="">\n<div class="col-sm-7 col-md-8 order-sm-first" style="box-sizing: border-box\; margin: 0px\; padding: 0px 15px\; border: 0px\; outline: 0px\; font: inherit\; vertical-align: baseline\; position: relative\; width: 653.328px\; min-height: 1px\; flex: 0 0 66.6667%\; max-width: 66.6667%\; order: -1\;">\n<div class="row gz-event-facts" style="box-sizing: border-box\; margin: 1rem\; padding: 0px\; border: 0px\; outline: 0px\; font: inherit\; vertical-align: baseline\; display: flex\; flex-wrap: wrap\;">\n<div class="col-sm-12 gz-event-date" style="box-sizing: border-box\; margin: 0px\; padding: 0px 15px\; border: 0px\; outline: 0px\; font: inherit\; vertical-align: baseline\; position: relative\; width: 591.328px\; min-height: 1px\; flex: 0 0 100%\; max-width: 100%\;">\n<p color:="" droid="" font-feature-settings:="" font-kerning:="" font-language-override:="" font-optical-sizing:="" font-size-adjust:="" font-variation-settings:="" margin-block-end:="" style="box-sizing: border-box\; margin: 0px 0px 1rem\; padding: 0px\; border: 0px\; outline: 0px\; font-variant-numeric: inherit\; font-variant-east-asian: inherit\; font-variant-alternates: inherit\; font-variant-position: inherit\; font-variant-emoji: inherit\; font-stretch: inherit\; font-size: 14px\; line-height: inherit\; font-family: " vertical-align:="">This JOB FAIR is designed for local companies who are hiring high school students now\, or for summer 2026 positions. You will have a 6&#39\; table with no skirt at each school. You are allowed and encouraged to bring swag for the students to grab at your table. Students will be excused from class to attend these fairs during the school day.</p>\n\n<h5 class="gz-subtitle" style="box-sizing: border-box\; margin: 0.5rem 0px\; padding: 0px\; border: 0px\; outline: 0px\; font-variant: inherit\; font-stretch: inherit\; font-size: 15.078px\; line-height: 1.375\; font-optical-sizing: inherit\; font-size-adjust: inherit\; font-kerning: inherit\; font-feature-settings: inherit\; font-variation-settings: inherit\; font-language-override: inherit\; vertical-align: baseline\; font-weight: 600\; color: rgb(34\, 34\, 34)\; text-wrap-style: initial\; word-break: break-word\;">Date and Time</h5>\n\n<p style="box-sizing: border-box\; margin: 0px 0px 1rem\; padding: 0px\; border: 0px\; outline: 0px\; font: inherit\; vertical-align: baseline\; margin-block-end: 20px\;"><span content="2026-04-28T13:30:00Z" itemprop="startDate" style="box-sizing: border-box\; margin: 0px\; padding: 0px\; border: 0px\; outline: 0px\; font: inherit\; vertical-align: baseline\;">Tuesday Apr 28\, 2026</span><br style="box-sizing: border-box\;" />\n<span class="gz-details-time" style="box-sizing: border-box\; margin: 0px\; padding: 0px\; border: 0px\; outline: 0px\; font: inherit\; vertical-align: baseline\;">8:30 AM - 3:00 PM CDT</span></p>\n\n<div class="gz-details-hours" style="box-sizing: border-box\; margin: 0px\; padding: 0px\; border: 0px\; outline: 0px\; font: inherit\; vertical-align: baseline\;">\n<p style="box-sizing: border-box\; margin: 0px 0px 1rem\; padding: 0px\; border: 0px\; outline: 0px\; font: inherit\; vertical-align: baseline\; margin-block-end: 20px\;">Lakeville North High School 8:30AM - 11:00AM<br style="box-sizing: border-box\;" />\nLakeville South High School 12:30PM-3:00PM<br style="box-sizing: border-box\;" />\nSet up 30 minutes prior at each location</p>\n\n<div 0="" background-color:="" class="col-sm-12 gz-event-location" color:="" droid="" flex:="" font-feature-settings:="" font-kerning:="" font-language-override:="" font-optical-sizing:="" font-size-adjust:="" font-variation-settings:="" itemprop="location" itemscope="" itemtype="http://schema.org/Place" max-width:="" min-height:="" position:="" style="box-sizing: border-box\; margin: 0px\; padding: 0px 15px\; border: 0px\; outline: 0px\; font-variant-numeric: inherit\; font-variant-east-asian: inherit\; font-variant-alternates: inherit\; font-variant-position: inherit\; font-variant-emoji: inherit\; font-stretch: inherit\; font-size: 14px\; line-height: inherit\; font-family: " vertical-align:="" width:="">\n<h5 class="gz-subtitle" style="box-sizing: border-box\; margin: 0.5rem 0px\; padding: 0px\; border: 0px\; outline: 0px\; font-variant: inherit\; font-stretch: inherit\; font-size: 15.078px\; line-height: 1.375\; font-optical-sizing: inherit\; font-size-adjust: inherit\; font-kerning: inherit\; font-feature-settings: inherit\; font-variation-settings: inherit\; font-language-override: inherit\; vertical-align: baseline\; color: rgb(34\, 34\, 34)\; text-wrap-style: initial\; word-break: break-word\;">Location</h5>\n\n<p style="box-sizing: border-box\; margin: 0px 0px 1rem\; padding: 0px\; border: 0px\; outline: 0px\; font: inherit\; vertical-align: baseline\; margin-block-end: 20px\;"><span itemprop="name" style="box-sizing: border-box\; margin: 0px\; padding: 0px\; border: 0px\; outline: 0px\; font: inherit\; vertical-align: baseline\;">Lakeville North High School 8:30AM - 11:00AM<br style="box-sizing: border-box\;" />\nLakeville South High School 12:30PM-3:00PM<br style="box-sizing: border-box\;" />\nSet up 30 minutes prior at each location</span></p>\n</div>\n\n<div 0="" background-color:="" class="col-sm-12 gz-event-fees" color:="" droid="" flex:="" font-feature-settings:="" font-kerning:="" font-language-override:="" font-optical-sizing:="" font-size-adjust:="" font-variation-settings:="" max-width:="" min-height:="" position:="" style="box-sizing: border-box\; margin: 0px\; padding: 0px 15px\; border: 0px\; outline: 0px\; font-variant-numeric: inherit\; font-variant-east-asian: inherit\; font-variant-alternates: inherit\; font-variant-position: inherit\; font-variant-emoji: inherit\; font-stretch: inherit\; font-size: 14px\; line-height: inherit\; font-family: " vertical-align:="" width:="">\n<h5 class="gz-subtitle" style="box-sizing: border-box\; margin: 0.5rem 0px\; padding: 0px\; border: 0px\; outline: 0px\; font-variant: inherit\; font-stretch: inherit\; font-size: 15.078px\; line-height: 1.375\; font-optical-sizing: inherit\; font-size-adjust: inherit\; font-kerning: inherit\; font-feature-settings: inherit\; font-variation-settings: inherit\; font-language-override: inherit\; vertical-align: baseline\; color: rgb(34\, 34\, 34)\; text-wrap-style: initial\; word-break: break-word\;">Fees/Admission</h5>\n\n<p style="box-sizing: border-box\; margin: 0px 0px 1rem\; padding: 0px\; border: 0px\; outline: 0px\; font: inherit\; vertical-align: baseline\; margin-block-end: 20px\;"><span class="gz-event-fees" style="box-sizing: border-box\; margin: 0px\; padding: 0px\; border: 0px\; outline: 0px\; font: inherit\; vertical-align: baseline\;">Free of charge. Must be hiring high school students.</span></p>\n</div>\n</div>\n</div>\n</div>\n</div>\n</div>\n\n<div background-color:="" color:="" font-feature-settings:="" font-kerning:="" font-language-override:="" font-optical-sizing:="" font-size-adjust:="" font-variation-settings:="" helvetica="" margin:="" padding:="" segoe="" style="border: 0px\; font-variant-numeric: inherit\; font-variant-east-asian: inherit\; font-variant-alternates: inherit\; font-variant-position: inherit\; font-variant-emoji: inherit\; font-stretch: inherit\; font-size: 15px\; line-height: inherit\; font-family: " ui="" vertical-align:="" web="" west="">\n<div style="border: 0px\; font: inherit\; margin: 0px\; padding: 0px\; vertical-align: baseline\; color: inherit\;">\n<ul style="margin-top: 0px\; margin-bottom: 0px\;" type="disc">\n	<li style="font-size: 12pt\; font-family: Aptos\, sans-serif\; margin: 0px\;"><a data-auth="NotApplicable" data-linkindex="0" href="https://url.avanan.click/v2/r01/___https://business.lakevillechamber.org/events/details/2026-lakeville-high-school-job-fair-407131___.YXAzOmRjcmM6YTpvOmQ5NzAyMWZmMzAwMGYwMjgwMWU4OGVlYTdhOWZhYmZmOjc6OWZiZTozZTRmYTQ2ZWNkNTUwMTA3MGQyZWJlNDdmNmJhM2FiODYyOWUyMjQ5Y2RkZDY4NzQzYWI2OGVkNDBiY2YxNTE2Omg6VDpO" id="anchor-5272cc5c-f8d4-0bdc-154b-1da4ae246540" rel="noopener noreferrer" style="border: 0px\; font: inherit\; margin: 0px\; padding: 0px\; vertical-align: baseline\;" target="_blank" title="https://url.avanan.click/v2/r01/___https://business.lakevillechamber.org/events/details/2026-lakeville-high-school-job-fair-407131___.YXAzOmRjcmM6YTpvOmQ5NzAyMWZmMzAwMGYwMjgwMWU4OGVlYTdhOWZhYmZmOjc6OWZiZTozZTRmYTQ2ZWNkNTUwMTA3MGQyZWJlNDdmNmJhM2FiODYyOWUyMjQ5Y2RkZDY4NzQzYWI2OGVkNDBiY2YxNTE2Omg6VDpO">REGISTER HERE</a>&nbsp\;so we have a table for you.</li>\n</ul>\n</div>\n</div>\n
LOCATION:Location Lakeville North High School 8:30AM - 11:00AM Lakeville South High School 12:30PM-3:00PM
UID:e.471.784432
SEQUENCE:3
DTSTAMP:20260420T200527Z
URL:https://business.dcrchamber.com/events/details/high-school-job-fairs-784432
END:VEVENT

END:VCALENDAR
