BEGIN:VCALENDAR
VERSION:2.0
PRODID:-//ChamberMaster//Event Calendar 2.0//EN
METHOD:PUBLISH
X-PUBLISHED-TTL:P3D
REFRESH-INTERVAL:P3D
CALSCALE:GREGORIAN
BEGIN:VEVENT
DTSTART:20250821T200000Z
DTEND:20250821T220000Z
X-MICROSOFT-CDO-ALLDAYEVENT:FALSE
SUMMARY:Happy Hour & Handshakes - Lago Tacos - NOW OPEN!
DESCRIPTION:Lago Tacos Now Open at Viking Lakes   Eagan!\n\n"A Modern Spin on Mexican Food and Margaritas"\n\nNo need to wait Lago Tacos is already serving up fresh\, delicious tacos and ready for you to visit today! Come experience their vibrant new location and enjoy authentic flavors made with passion.\n\n  Join us for a Ribbon Cutting Celebration & Happy Hour Handshakes Event!\n\n  Thursday\, August 21st\n\n  3:00 PM   5:00 PM\n\n  Lago Tacos\, Eagan   Viking Lakes location\n\nCelebrate Lago Tacos officially joining the community with a ribbon cutting ceremony\, followed by an afternoon of fresh snacks prepared by their chef\, exclusive happy hour specials\, and plenty of great networking opportunities.\n\nCome sample mouthwatering dishes from the talented culinary team at Lago Tacos    bold flavors\, fresh ingredients\, and a menu worth celebrating.\n\nDon't miss the chance to experience this exciting new addition to Viking Lakes! COME CHECK THEM OUT TODAY!
X-ALT-DESC;FMTTYPE=text/html:<h2 background-color:="" bebas="" class="jss2806 pm-AH pm-h3" color:="" font-size:="" letter-spacing:="" line-height:="" margin-bottom:="" margin-top:="" style="font-weight: normal\; line-height: 1.2\; color: rgb(51\, 51\, 51)\; font-family: sans-serif\, Arial\, Verdana\, &quot\;Trebuchet MS&quot\;\; box-sizing: border-box\; text-align: center\;"><strong data-end="117" data-start="69">Lago Tacos Now Open at Viking Lakes &ndash\; Eagan!</strong></h2>\n\n<h2 background-color:="" bebas="" class="jss2806 pm-AH pm-h3" color:="" font-size:="" letter-spacing:="" line-height:="" margin-bottom:="" margin-top:="" style="font-weight: normal\; line-height: 1.2\; color: rgb(51\, 51\, 51)\; font-family: sans-serif\, Arial\, Verdana\, &quot\;Trebuchet MS&quot\;\; box-sizing: border-box\; text-align: center\;"><em><span style="font-size: 20px\;">&quot\;A Modern Spin on Mexican Food and Margaritas&quot\;</span></em></h2>\n\n<p data-end="378" data-start="183"><span style="font-size:16px\;"><span style="font-family:arial\;">No need to wait&mdash\;Lago Tacos is already serving up fresh\, delicious tacos and ready for you to visit today! Come experience their vibrant new location and enjoy authentic flavors made with passion.</span></span></p>\n\n<p data-end="553" data-start="380"><span style="font-size:16px\;"><span style="font-family:arial\;">&#10024\; <strong data-end="457" data-start="382">Join us for a Ribbon Cutting Celebration &amp\; Happy Hour Handshakes Event!</strong><br data-end="460" data-start="457" />\n&#128197\; Thursday\, August 21st<br data-end="487" data-start="484" />\n&#9200\; 3:00 PM &ndash\; 5:00 PM<br data-end="509" data-start="506" />\n&#128205\; Lago Tacos\, Eagan &ndash\; Viking Lakes location</span></span></p>\n\n<p data-end="782" data-start="555"><span style="font-size:16px\;"><span style="font-family:arial\;">Celebrate Lago Tacos officially joining the community with a ribbon cutting ceremony\, followed by an afternoon of fresh snacks prepared by their chef\, exclusive happy hour specials\, and plenty of great networking opportunities.</span></span></p>\n\n<p data-end="503" data-start="360"><span style="font-size:16px\;"><span style="font-family:arial\;">Come sample mouthwatering dishes from the talented culinary team at Lago Tacos&nbsp\;&nbsp\;&mdash\; bold flavors\, fresh ingredients\, and a menu worth celebrating.</span></span></p>\n\n<p data-end="606" data-start="505"><span style="font-size:16px\;"><span style="font-family:arial\;">Don&rsquo\;t miss the chance to&nbsp\;experience this exciting new addition to Viking Lakes!&nbsp\;COME CHECK THEM OUT TODAY!</span></span></p>\n
LOCATION:Eagan - Viking Lakes 730 Vikings Parkway\, Ste. 100 Eagan\, MN 55121
UID:e.471.784029
SEQUENCE:3
DTSTAMP:20260422T131428Z
URL:https://business.dcrchamber.com/events/details/happy-hour-handshakes-lago-tacos-now-open-784029
END:VEVENT

END:VCALENDAR
