BEGIN:VCALENDAR
VERSION:2.0
PRODID:-//ChamberMaster//Event Calendar 2.0//EN
METHOD:PUBLISH
X-PUBLISHED-TTL:P3D
REFRESH-INTERVAL:P3D
CALSCALE:GREGORIAN
BEGIN:VEVENT
DTSTART:20250807T210000Z
DTEND:20250807T223000Z
X-MICROSOFT-CDO-ALLDAYEVENT:FALSE
SUMMARY:"Happy Hour & Handshakes" at Prime Security
DESCRIPTION:DCR Chamber would like to invite you to the "Happy Hour & Handshakes" on Thursday\, August 7\, 2025 from 4 p.m. to 5:30 p.m. at Prime Security.\nDon't miss your chance to win gift cards from amazing local businesses just for celebrating the 100 Year Celebration with Prime Security! Prime Security will be giving away prizes to celebrate and support our incredible community.\n\nStay tuned\, get involved\, and you could walk away with a great local gift card.\n\nLet's lift up local businesses and have some fun while we're at it!\nAppetizers and beverages will be served!  Bring your business cards and get ready for an evening of fun\, networking and socializing!  Please invite your fellow co-workers\, friends\, and others you feel may enjoy this event.
X-ALT-DESC;FMTTYPE=text/html:<span style="font-family:arial\;"><span style="font-size:16px\;">DCR Chamber would like to invite you to the &quot\;Happy Hour &amp\; Handshakes&quot\; on Thursday\, August 7\, 2025 from 4 p.m. to 5:30 p.m. at Prime Security.</span></span>\n<p data-end="372" data-start="164"><span style="font-family:arial\;"><span style="font-size:16px\;">Don&rsquo\;t miss your chance to win <strong data-end="238" data-start="194">gift cards from amazing local businesses</strong>&mdash\;just for celebrating the 100 Year Celebration&nbsp\;with Prime Security! Prime Security will be giving away prizes to celebrate and support our incredible community.</span></span></p>\n\n<p data-end="529" data-start="374"><span style="font-family:arial\;"><span style="font-size:16px\;">Stay tuned\, get involved\, and you could walk away with a great local gift card.<br data-end="458" data-start="455" />\nLet&rsquo\;s lift up local businesses&mdash\;<strong data-end="529" data-start="489">and have some fun while we&rsquo\;re at it!</strong></span></span></p>\n<span style="font-family:arial\;"><span style="font-size:16px\;">Appetizers and beverages will be served!&nbsp\; Bring your business cards and get ready for an evening of fun\, networking and socializing!&nbsp\; Please invite your fellow co-workers\, friends\, and others you feel may enjoy this event.</span></span>
LOCATION:Prime Security 1595 Thomas Center Dr. Eagan\, MN 55122
UID:e.471.783919
SEQUENCE:3
DTSTAMP:20260422T120842Z
URL:https://business.dcrchamber.com/events/details/happy-hour-handshakes-at-prime-security-783919
END:VEVENT

END:VCALENDAR
