BEGIN:VCALENDAR
VERSION:2.0
PRODID:-//ChamberMaster//Event Calendar 2.0//EN
METHOD:PUBLISH
X-PUBLISHED-TTL:P3D
REFRESH-INTERVAL:P3D
CALSCALE:GREGORIAN
BEGIN:VEVENT
DTSTART:20231207T143000Z
DTEND:20231207T210000Z
X-MICROSOFT-CDO-ALLDAYEVENT:FALSE
SUMMARY:GrowthX: Start the Year Strong!
DESCRIPTION:Are you a motivated business owner or entrepreneur eager to catapult your business to new heights? Join us for our Growth X event\, a dynamic quarterly workshop designed for forward-thinking business leaders like you!\n\nAbout GrowthX:\n\nGrowthX is your exclusive quarterly gateway to achieving remarkable business success. Our distinguished speakers\, including industry experts\, financial gurus\, and seasoned entrepreneurs\, are here to provide you with the strategies and knowledge necessary to supercharge your business. From setting clear goals for the upcoming year to mastering profitability strategies\, GrowthX is the event you need to kickstart the year for greater success.\n\nGrowthX: What's in it for you?\n\n\n	Establishing clear priorities for 2024\n	A 90-day plan customized to your business\n	Practical strategies for immediate implementation\n	Skills and tools to boost productivity for you and your team\n	Energy\, vision\, and focus for your business\n	Networking with like-minded professionals\n	Breakfast & Lunch will be provided\n	Exclusive coupon for a complimentary 2-Hour Business Strategy Session (Valued at $495.00!)\n	Networking Lite Breakfast and Lunch Provided\n\n\nJoin us for a day filled with inspiration\, strategic planning\, and networking. Don't miss this opportunity to connect with accomplished business leaders\, learn tried-and-true profit strategies\, and set clear objectives for your year ahead.\n\nBy the end of this action-packed day\, you will have a clear focus on where your business will be after 90 days as well as a plan to get you there\, so what are you waiting for?\n\nContinental Breakfast\, Lunch and Beverages Provided.
X-ALT-DESC;FMTTYPE=text/html:<p><span style="font-size:11px"><span style="font-family:arial\,helvetica\,sans-serif">Are you a motivated business owner or entrepreneur eager to catapult your business to new heights? Join us for our Growth X event\, a dynamic quarterly workshop designed for forward-thinking business leaders like you!</span></span></p>\n\n<p><span style="font-size:11px"><span style="font-family:arial\,helvetica\,sans-serif"><strong>About GrowthX:</strong></span></span></p>\n\n<p><span style="font-size:11px"><span style="font-family:arial\,helvetica\,sans-serif">GrowthX is your exclusive quarterly gateway to achieving remarkable business success. Our distinguished speakers\, including industry experts\, financial gurus\, and seasoned entrepreneurs\, are here to provide you with the strategies and knowledge necessary to supercharge your business. From setting clear goals for the upcoming year to mastering profitability strategies\, GrowthX is the event you need to kickstart the year for greater success.</span></span></p>\n\n<p><span style="font-size:11px"><span style="font-family:arial\,helvetica\,sans-serif">GrowthX: What&rsquo\;s in it for you?</span></span></p>\n\n<ul>\n	<li><span style="font-size:11px"><span style="font-family:arial\,helvetica\,sans-serif"><strong>Establishing clear priorities for 2024</strong></span></span></li>\n	<li><span style="font-size:11px"><span style="font-family:arial\,helvetica\,sans-serif"><strong>A 90-day plan customized to your business</strong></span></span></li>\n	<li><span style="font-size:11px"><span style="font-family:arial\,helvetica\,sans-serif"><strong>Practical strategies for immediate implementation</strong></span></span></li>\n	<li><span style="font-size:11px"><span style="font-family:arial\,helvetica\,sans-serif"><strong>Skills and tools to boost productivity for you and your team</strong></span></span></li>\n	<li><span style="font-size:11px"><span style="font-family:arial\,helvetica\,sans-serif"><strong>Energy\, vision\, and focus for your business</strong></span></span></li>\n	<li><span style="font-size:11px"><span style="font-family:arial\,helvetica\,sans-serif"><strong>Networking with like-minded professionals</strong></span></span></li>\n	<li><span style="font-size:11px"><span style="font-family:arial\,helvetica\,sans-serif"><strong>Breakfast &amp\; Lunch will be provided</strong></span></span></li>\n	<li><span style="font-size:11px"><span style="font-family:arial\,helvetica\,sans-serif">Exclusive coupon for a complimentary 2-Hour Business Strategy Session (Valued at $495.00!)</span></span></li>\n	<li><span style="font-size:11px"><span style="font-family:arial\,helvetica\,sans-serif">Networking Lite Breakfast and Lunch Provided</span></span></li>\n</ul>\n\n<p><span style="font-family:arial\,helvetica\,sans-serif\; font-size:11px">Join us for a day filled with inspiration\, strategic planning\, and networking. Don&#39\;t miss this opportunity to connect with accomplished business leaders\, learn tried-and-true profit strategies\, and set clear objectives for your year ahead.</span></p>\n\n<p><span style="font-size:11px"><span style="font-family:arial\,helvetica\,sans-serif"><strong>By the end of this action-packed day\, you will have a clear focus on where your business will be after 90 days as well as a plan to get you there\, so what are you waiting for?</strong></span></span></p>\n\n<p><span style="font-family:arial\,helvetica\,sans-serif\; font-size:11px">Continental Breakfast\, Lunch and Beverages Provided.</span></p>\n
LOCATION:Sovran Business Technologies 2915 Commers Dr\, Eagan\, MN 55121
UID:e.471.783456
SEQUENCE:3
DTSTAMP:20260422T015408Z
URL:https://business.dcrchamber.com/events/details/growthx-start-the-year-strong-783456
END:VEVENT

END:VCALENDAR
