BEGIN:VCALENDAR
VERSION:2.0
PRODID:-//ChamberMaster//Event Calendar 2.0//EN
METHOD:PUBLISH
X-PUBLISHED-TTL:P3D
REFRESH-INTERVAL:P3D
CALSCALE:GREGORIAN
BEGIN:VEVENT
DTSTART:20240414T173000Z
DTEND:20240414T193000Z
X-MICROSOFT-CDO-ALLDAYEVENT:FALSE
SUMMARY:Goldfish Swim School Eagan Free Trial Event
DESCRIPTION:Free Trial Event! Have you been wanting to give Goldfish a try? Maybe you aren't sure what level your kiddo should be in. Join us for a Free Trial Event on Sunday\, April 14th from 12:30-2:30pm! This is a great opportunity for kiddos to test the waters with a full 30 minute lesson alongside other swimmers at their same level. All levels are welcome. Registration required.
X-ALT-DESC;FMTTYPE=text/html:Free Trial Event! Have you been wanting to give Goldfish a try? Maybe you aren&#39\;t sure what level your kiddo should be in. Join us for a Free Trial Event on Sunday\, April 14th from 12:30-2:30pm! This is a great opportunity for kiddos to test the waters with a full 30 minute lesson alongside other swimmers at their same level. All levels are welcome. Registration required.
LOCATION:Goldfish Swim School Eagan 1278 Town Centre Drive #160 Eagan\, MN 55123
UID:e.471.783686
SEQUENCE:3
DTSTAMP:20260421T210701Z
URL:https://business.dcrchamber.com/events/details/goldfish-swim-school-eagan-free-trial-event-783686
END:VEVENT

END:VCALENDAR
