BEGIN:VCALENDAR
VERSION:2.0
PRODID:-//ChamberMaster//Event Calendar 2.0//EN
METHOD:PUBLISH
X-PUBLISHED-TTL:P3D
REFRESH-INTERVAL:P3D
CALSCALE:GREGORIAN
BEGIN:VEVENT
DTSTART:20241110T221500Z
DTEND:20241111T000000Z
X-MICROSOFT-CDO-ALLDAYEVENT:FALSE
SUMMARY:Free Veterans Dinner
DESCRIPTION:Free Veterans Dinner\n\n\n\nRosemount Beyond The Yellow Ribbon would like to invite Veterans\, Active Duty Service members and a guest to a FREE Veterans Day dinner\, Sunday\, November 10th from 4:15 to 6:00 pm. This event will be held at the Rosemount Community Center. LIMITED SPACE - Please RSVP by Tuesday\, November 5th to Brenda at 612-306-2581 or bkayriver@msn.com.
X-ALT-DESC;FMTTYPE=text/html:<div style="text-align:center">Free Veterans Dinner<br />\n<br />\nRosemount Beyond The Yellow Ribbon would like to invite Veterans\, Active Duty Service members and a guest to a FREE Veterans Day dinner\, Sunday\, November 10th from 4:15 to 6:00 pm. This event will be held at the Rosemount Community Center. LIMITED SPACE - Please RSVP by Tuesday\, November 5th to Brenda at 612-306-2581 or bkayriver@msn.com.<br />\n<br />\n&nbsp\;</div>\n
LOCATION:Rosemount Community Center 13885 S. Robert Trail Rosemount\, MN
UID:e.471.783761
SEQUENCE:3
DTSTAMP:20260421T121525Z
URL:https://business.dcrchamber.com/events/details/free-veterans-dinner-783761
END:VEVENT

END:VCALENDAR
