BEGIN:VCALENDAR
VERSION:2.0
PRODID:-//ChamberMaster//Event Calendar 2.0//EN
METHOD:PUBLISH
X-PUBLISHED-TTL:P3D
REFRESH-INTERVAL:P3D
CALSCALE:GREGORIAN
BEGIN:VEVENT
DTSTART;VALUE=DATE:20250402
DTEND;VALUE=DATE:20250403
TRANSP:TRANSPARENT
X-MICROSOFT-CDO-ALLDAYEVENT:TRUE
SUMMARY:Free Residential Cleaning
DESCRIPTION:Hello\, I'm Esme\, owner and founder of Squeaky Services\, a company dedicated to commercial and residential cleaning\, carpet cleaning\, and painting. I want to invite you to be part of a very special initiative we're carrying out this month\, as April holds a very special meaning for our family. We experience AUTISM up close with our son and deeply understand this journey.\n\nIn honor of him and his 9 years\, we want to do our part by offering 9 FREE residential cleanings during this month of awareness. We believe that a clean and organized home can have a positive impact on people's well-being\, and this is our way of giving thanks and supporting our community.\n\nIf you know of a family that could benefit from this gesture\, please feel free to reach out to us by visiting our website!\n\nSqueaky Services   Residential and Commercial Cleaning and Painting Services in the Twin Cities and Suburbs Minnesota\n\nTogether\, we can make a difference.
X-ALT-DESC;FMTTYPE=text/html:<p>Hello\, I&rsquo\;m Esme\, owner and founder of Squeaky Services\, a company dedicated to commercial and residential cleaning\, carpet cleaning\, and painting. I want to invite you to be part of a very special initiative we&rsquo\;re carrying out this month\, as April holds a very special meaning for our family. We experience AUTISM up close with our son and deeply understand this journey.</p>\n\n<p>In honor of him and his 9 years\, we want to do our part by offering 9 FREE residential cleanings during this month of awareness. We believe that a clean and organized home can have a positive impact on people&#39\;s well-being\, and this is our way of giving thanks and supporting our community.</p>\n\n<p>If you know of a family that could benefit from this gesture\, please feel free to reach out to us by visiting our website!<br />\n<a href="https://squeakyservices.com/">Squeaky Services &ndash\; Residential and Commercial Cleaning and Painting Services in the Twin Cities and Suburbs Minnesota</a><br />\nTogether\, we can make a difference.</p>\n
LOCATION:
UID:e.471.783901
SEQUENCE:3
DTSTAMP:20260424T143845Z
URL:https://business.dcrchamber.com/events/details/free-residential-cleaning-04-02-2025-783901
END:VEVENT

END:VCALENDAR
