BEGIN:VCALENDAR
VERSION:2.0
PRODID:-//ChamberMaster//Event Calendar 2.0//EN
METHOD:PUBLISH
X-PUBLISHED-TTL:P3D
REFRESH-INTERVAL:P3D
CALSCALE:GREGORIAN
BEGIN:VEVENT
DTSTART:20230520T150000Z
DTEND:20230520T190000Z
X-MICROSOFT-CDO-ALLDAYEVENT:FALSE
SUMMARY:Fraser Festival\, presented by Central Roofing Company
DESCRIPTION:This fun\, one-of-a-kind\, sensory-friendly festival raises funds to increase access to critical programs and services for individuals and families impacted by autism. \n\nIndividuals and event sponsors support our community by raising funds to help meet the increased demand for services. You can fundraise as an individual\, make a donation\, or volunteer your time.\n\nThis year\, the festival is moving to a new location   Saint Paul RiverCentre\, downtown St. Paul\, MN   and has been reimagined to engage participants in new activities\, experiences\, and fun. Guests will experience music\, movement\, games\, food\, and entertainment in eight zones that engage each of the body's eight senses.
X-ALT-DESC;FMTTYPE=text/html:<p>This fun\, one-of-a-kind\, sensory-friendly festival raises funds to increase access to critical programs and services for individuals and families impacted by autism.&nbsp\;</p>\n\n<p>Individuals and event sponsors support our community by raising funds to help meet the increased demand for services. You can fundraise as an individual\, make a donation\, or volunteer your time.</p>\n\n<p>This year\, the festival is moving to a new location &ndash\; Saint Paul RiverCentre\, downtown St. Paul\, MN &ndash\; and has been reimagined to engage participants in new activities\, experiences\, and fun. Guests will experience music\, movement\, games\, food\, and entertainment in eight zones that engage each of the body&rsquo\;s eight senses.</p>\n
LOCATION:Saint Paul RiverCentre
UID:e.471.783343
SEQUENCE:3
DTSTAMP:20260422T141901Z
URL:https://business.dcrchamber.com/events/details/fraser-festival-presented-by-central-roofing-company-783343
END:VEVENT

END:VCALENDAR
