BEGIN:VCALENDAR
VERSION:2.0
PRODID:-//ChamberMaster//Event Calendar 2.0//EN
METHOD:PUBLISH
X-PUBLISHED-TTL:P3D
REFRESH-INTERVAL:P3D
CALSCALE:GREGORIAN
BEGIN:VEVENT
DTSTART:20260329T170000Z
DTEND:20260329T190000Z
X-MICROSOFT-CDO-ALLDAYEVENT:FALSE
SUMMARY:Floral Design Workshop: Spring has Sprung Arrangement
DESCRIPTION:Cedar Rae Floral Floral Design Workshop Series Sundays noon to 2 pm This workshop is a hands-on opportunity to brush up on the principles and elements of floral design\, play with fresh seasonal flowers and then take your design home! This is an informal class format taught by Cedar Rae Floral. We will share tips and tricks to make your designs look more professional and longer lasting. Bring a friend for an afternoon of floral fun! Pack your sharp scissors/pruners or floral shears and an apron. Ages 16+ $85 Sign up through the City of Lakeville Parks & Recreation registration system: webtrac.lakevillemn.gov and search "floral" to find your workshop
X-ALT-DESC;FMTTYPE=text/html:Cedar Rae Floral Floral Design Workshop Series Sundays noon to 2 pm This workshop is a hands-on opportunity to brush up on the principles and elements of floral design\, play with fresh seasonal flowers and then take your design home! This is an informal class format taught by Cedar Rae Floral. We will share tips and tricks to make your designs look more professional and longer lasting. Bring a friend for an afternoon of floral fun! Pack your sharp scissors/pruners or floral shears and an apron. Ages 16+ $85 Sign up through the City of Lakeville Parks &amp\; Recreation registration system: webtrac.lakevillemn.gov and search &quot\;floral&quot\; to find your workshop
LOCATION:Lakeville Heritage Center 20110 Holyoke Ave\, Lakeville\, MN 55044
UID:e.471.784372
SEQUENCE:3
DTSTAMP:20260422T030109Z
URL:https://business.dcrchamber.com/events/details/floral-design-workshop-spring-has-sprung-arrangement-784372
END:VEVENT

END:VCALENDAR
