BEGIN:VCALENDAR
VERSION:2.0
PRODID:-//ChamberMaster//Event Calendar 2.0//EN
METHOD:PUBLISH
X-PUBLISHED-TTL:P3D
REFRESH-INTERVAL:P3D
CALSCALE:GREGORIAN
BEGIN:VEVENT
DTSTART;VALUE=DATE:20250529
DTEND;VALUE=DATE:20250530
TRANSP:TRANSPARENT
X-MICROSOFT-CDO-ALLDAYEVENT:TRUE
SUMMARY:Father's Day Special Offer
DESCRIPTION:"Dad Works Hard... Let Us Do the Cleaning!"\n\nSqueaky Services helps you celebrate him the way he deserves\n\n?? Father's Day Special Promotion\n\n?? General cleaning for up to 4 hours   now only $249 (was $279)\n\n?? Includes 50% off another service (Carpet Cleaning\, Power Washing\, or Painting)\n\n??? Extra cleaning for home office or study included!\n\n?? Valid throughout June\n\n?? Book today and surprise Dad with a spotless home!
X-ALT-DESC;FMTTYPE=text/html:<p><strong>&ldquo\;Dad Works Hard... Let Us Do the Cleaning!&rdquo\;</strong><br />\nSqueaky Services helps you celebrate him the way he deserves</p>\n\n<p>?? <strong>Father&rsquo\;s Day Special Promotion</strong><br />\n?? General cleaning for up to 4 hours &ndash\; now only <strong>$249</strong> (was $279)<br />\n?? Includes <strong>50% off</strong> another service (Carpet Cleaning\, Power Washing\, or Painting)<br />\n??? Extra cleaning for <strong>home office or study included!</strong><br />\n?? <strong>Valid throughout June</strong><br />\n?? Book today and surprise Dad with a spotless home!</p>\n
LOCATION:
UID:e.471.783988
SEQUENCE:3
DTSTAMP:20260424T131932Z
URL:https://business.dcrchamber.com/events/details/father-s-day-special-offer-783988
END:VEVENT

END:VCALENDAR
