BEGIN:VCALENDAR
VERSION:2.0
PRODID:-//ChamberMaster//Event Calendar 2.0//EN
METHOD:PUBLISH
X-PUBLISHED-TTL:P3D
REFRESH-INTERVAL:P3D
CALSCALE:GREGORIAN
BEGIN:VEVENT
DTSTART:20260211T180000Z
DTEND:20260211T190000Z
X-MICROSOFT-CDO-ALLDAYEVENT:FALSE
SUMMARY:eCommerce: Selling Online
DESCRIPTION:Learn to develop the right platform for your eCommerce website including PayPal\, WooCommerce and Shopify. We will discuss product photography requirements\, creating product categories and payment and shipping options.
X-ALT-DESC;FMTTYPE=text/html:Learn to develop the right platform for your eCommerce website including PayPal\, WooCommerce and Shopify. We will discuss product photography requirements\, creating product categories and payment and shipping options.
LOCATION:Virtual. Register at Dakota County Library website\, search for events calendar. Zoom link will be provided.
UID:e.471.784373
SEQUENCE:3
DTSTAMP:20260422T030920Z
URL:https://business.dcrchamber.com/events/details/ecommerce-selling-online-784373
END:VEVENT

END:VCALENDAR
