BEGIN:VCALENDAR
VERSION:2.0
PRODID:-//ChamberMaster//Event Calendar 2.0//EN
METHOD:PUBLISH
X-PUBLISHED-TTL:P3D
REFRESH-INTERVAL:P3D
CALSCALE:GREGORIAN
BEGIN:VEVENT
DTSTART:20251105T220000Z
DTEND:20251105T230000Z
X-MICROSOFT-CDO-ALLDAYEVENT:FALSE
SUMMARY:Eagan Foundation Board Member Information Session
DESCRIPTION:Do you have a passion for Eagan? Are you looking to gain new leadership skills? Serve alongside other community-minded professionals shaping Eagan's future. As a board member\, you'll expand your leadership network\, strengthen your understanding of local needs\, and help direct grants and scholarships that make a lasting difference. Build your professional skills while giving back to the community you work in.\n\nPlease join an hour-long information session to learn more! The options include:\n\n\n	Thursday\, October 30 | 6:30 - 7:30 PM\n	Tuesday\, November 4 | 6:00 - 7:00 PM\n	Wednesday\, November 5 | 4 - 5:00 PM\n	Saturday\, November 8 | 9:30 - 10:30 AM\n\nSign up HERE to learn more.
X-ALT-DESC;FMTTYPE=text/html:<p><span style="background-color:transparent\; color:rgb(0\, 0\, 0)\; font-family:arial\,sans-serif\; font-size:11pt">Do you have a passion for Eagan? Are you looking to gain new leadership skills? Serve alongside other community-minded professionals shaping Eagan&rsquo\;s future. As a board member\, you&rsquo\;ll expand your leadership network\, strengthen your understanding of local needs\, and help direct grants and scholarships that make a lasting difference. Build your professional skills while giving back to the community you work in.</span></p>\n\n<p><span style="background-color:transparent\; color:rgb(0\, 0\, 0)\; font-family:arial\,sans-serif\; font-size:11pt">Please join an hour-long information session to learn more! The options include:</span></p>\n\n<ul>\n	<li><span style="background-color:transparent\; color:rgb(0\, 0\, 0)\; font-family:arial\,sans-serif\; font-size:11pt">Thursday\, October 30 | 6:30 - 7:30 PM</span></li>\n	<li><span style="background-color:transparent\; color:rgb(0\, 0\, 0)\; font-family:arial\,sans-serif\; font-size:11pt">Tuesday\, November 4 | 6:00 - 7:00 PM</span></li>\n	<li><span style="background-color:transparent\; color:rgb(0\, 0\, 0)\; font-family:arial\,sans-serif\; font-size:11pt">Wednesday\, November 5 | 4 - 5:00 PM</span></li>\n	<li><span style="background-color:transparent\; color:rgb(0\, 0\, 0)\; font-family:arial\,sans-serif\; font-size:11pt">Saturday\, November 8 | 9:30 - 10:30 AM</span></li>\n</ul>\n<span style="background-color:transparent\; color:rgb(0\, 0\, 0)\; font-family:arial\,sans-serif\; font-size:11pt">Sign up <a href="https://www.eaganfoundation.org/become-a-board-member">HERE</a> to learn more.&nbsp\;</span>\n\n<div>&nbsp\;</div>\n
LOCATION:Zoom link will be shared before session.
UID:e.471.784153
SEQUENCE:3
DTSTAMP:20260422T092255Z
URL:https://business.dcrchamber.com/events/details/eagan-foundation-board-member-information-session-11-05-2025-784153
END:VEVENT

END:VCALENDAR
