BEGIN:VCALENDAR
VERSION:2.0
PRODID:-//ChamberMaster//Event Calendar 2.0//EN
METHOD:PUBLISH
X-PUBLISHED-TTL:P3D
REFRESH-INTERVAL:P3D
CALSCALE:GREGORIAN
BEGIN:VEVENT
DTSTART:20250923T150000Z
DTEND:20250923T180000Z
X-MICROSOFT-CDO-ALLDAYEVENT:FALSE
SUMMARY:Eagan Area Job Fair
DESCRIPTION:FIND YOUR NEXT JOB HERE! \n\n\n\nEAGAN AREA JOB FAIR \n\n	Openings in: \n	Customer Service\n	Healthcare\n	Manufacturing\n	Construction\n	Retail\n	and MORE!\n\nLocal employers have jobs available and are hiring!\n\nCome explore career opportunities from employers across the region.\n\n\n\nEagan Job Fair
X-ALT-DESC;FMTTYPE=text/html:<span style="font-family:arial\;"><span style="font-size:16px\;"><font color="#444444">FIND YOUR NEXT JOB HERE!&nbsp\;</font><br />\n<br />\nEAGAN AREA JOB FAIR&nbsp\;</span></span>\n<ul>\n	<li><span style="font-family:arial\;"><span style="font-size:16px\;">Openings in:&nbsp\;</span></span></li>\n	<li><span style="font-family:arial\;"><span style="font-size:16px\;">Customer Service</span></span></li>\n	<li><span style="font-family:arial\;"><span style="font-size:16px\;">Healthcare</span></span></li>\n	<li><span style="font-family:arial\;"><span style="font-size:16px\;">Manufacturing</span></span></li>\n	<li><span style="font-family:arial\;"><span style="font-size:16px\;">Construction</span></span></li>\n	<li><span style="font-family:arial\;"><span style="font-size:16px\;">Retail</span></span></li>\n	<li><span style="font-family:arial\;"><span style="font-size:16px\;">and MORE!</span></span></li>\n</ul>\n<span style="font-family:arial\;"><span style="font-size:16px\;"><span style="color: rgb(68\, 68\, 68)\;">Local employers have jobs available and are hiring!</span><br style="bottom: auto\; box-sizing: content-box\; clear: none\; color: rgb(68\, 68\, 68)\; content: normal\; direction: inherit\; display: inline\; empty-cells: show\; float: none\; font-variant-numeric: inherit\; font-variant-east-asian: inherit\; font-stretch: inherit\; font-size: 14px\; font-family: Arial\, Helvetica\, sans-serif\; left: auto\; line-height: inherit\; margin: 0px\; max-height: none\; max-width: none\; min-height: initial\; min-width: initial\; opacity: 1\; outline-offset: 0px\; overflow: visible\; padding: 0px\; position: static\; resize: none\; right: auto\; table-layout: auto\; text-overflow: clip\; top: auto\; vertical-align: baseline\; visibility: inherit\; word-break: inherit\; overflow-wrap: inherit\; z-index: auto\; background-image: none\; background-position: initial\; background-size: initial\; background-repeat: initial\; background-attachment: initial\; background-origin: initial\; background-clip: initial\; border: none\; border-collapse: separate\; border-radius: 0px\; height: auto\; width: auto\;" />\n<span style="color: rgb(68\, 68\, 68)\;">Come explore career opportunities from employers across the region.</span></span></span><br />\n<br />\n<a href="https://chambermaster.blob.core.windows.net/userfiles/UserFiles/chambers/471/File/EaganPosterSept23JobFair.pdf">Eagan Job Fair </a>
LOCATION:Eagan Community Center 1501 Central Pkwy Eagan\, MN 55112
UID:e.471.784027
SEQUENCE:3
DTSTAMP:20260422T120127Z
URL:https://business.dcrchamber.com/events/details/eagan-area-job-fair-784027
END:VEVENT

END:VCALENDAR
