BEGIN:VCALENDAR
VERSION:2.0
PRODID:-//ChamberMaster//Event Calendar 2.0//EN
METHOD:PUBLISH
X-PUBLISHED-TTL:P3D
REFRESH-INTERVAL:P3D
CALSCALE:GREGORIAN
BEGIN:VEVENT
DTSTART:20260225T180000Z
DTEND:20260225T183000Z
X-MICROSOFT-CDO-ALLDAYEVENT:FALSE
SUMMARY:DCR Chamber Member Connect Virtual Networking Meeting
DESCRIPTION:DCR Member Connect - Virtual Networking\n\nWednesday\, February 25\, Noon Zoom link provided upon registration
X-ALT-DESC;FMTTYPE=text/html:<p><span style="font-size:10.5pt\;font-family:&quot\;Arial&quot\;\,sans-serif\;color:#3E3E3E"><a href="https://url.avanan.click/v2/r01/___https:/us02web.zoom.us/meeting/register/tZAscOmoqTIvEtwtoECETMFdRJvwVQ3U-1GP:___.YXAzOmRjcmM6YTpvOjU4MzcwMzdjMDM2NjU0MWEyODQ3YzIyZjJkNzM4ZjFlOjc6ODQ3OTo1NmJiNGI2YzZkZmI4ZGRlZjY3ZWY3Yzg1MmRhYTg3ZDY2N2U3ODc1ZGVmNWM4Y2M2MTQ4NmE5MTRlZDQ1ZWY2Omg6VDpO" target="_blank" title="Protected by Avanan: https://us02web.zoom.us/meeting/register/tZAscOmoqTIvEtwtoECETMFdRJvwVQ3U-1GP:"><b><span style="color:#258D23\;text-decoration:none\;text-underline:none">DCR Member Connect - Virtual Networking</span></b></a><o:p></o:p></span></p>\n\n<p><span style="font-size:10.5pt\;font-family:&quot\;Arial&quot\;\,sans-serif\;color:#4D4D4D">Wednesday\, February 25\, Noon Zoom link provided upon registration</span><span style="font-size:10.5pt\;font-family:&quot\;Arial&quot\;\,sans-serif\;color:#3E3E3E"><o:p></o:p></span></p>\n
LOCATION:
UID:e.471.783878
SEQUENCE:3
DTSTAMP:20260422T052849Z
URL:https://business.dcrchamber.com/events/details/dcr-chamber-connect-virtual-networking-meeting-02-25-2026-783878
END:VEVENT

END:VCALENDAR
