BEGIN:VCALENDAR
VERSION:2.0
PRODID:-//ChamberMaster//Event Calendar 2.0//EN
METHOD:PUBLISH
X-PUBLISHED-TTL:P3D
REFRESH-INTERVAL:P3D
CALSCALE:GREGORIAN
BEGIN:VEVENT
DTSTART:20240801T220000Z
DTEND:20240802T020000Z
X-MICROSOFT-CDO-ALLDAYEVENT:FALSE
SUMMARY:DARTS 50th Birthday Bash!
DESCRIPTION:Join DARTS at their 50th Birthday Bash fundraiser on Thursday\, August 1\, 2024 at The Wexford at Emerald Greens in Hastings from 5   9pm.\n\nJoin an unforgettable evening to enjoy drink tastings\, delicious food\, unique games\, a throwback silent auction\, and live music from the Riverside All-Stars\, who will be playing songs through the decades! The party also features an online auction and the opportunity to wear your favorite decade's attire for a chance to win a special prize. Anyone can participate in the online auction\, with or without a ticket.\nShare the aging journey with DARTS as we raise our glasses\, raise funds\, and raise spirits!\n\nCheers to 50 years  and cheers to 50 more!\n\nTogether\, we'll create connections that enrich aging.
X-ALT-DESC;FMTTYPE=text/html:Join DARTS at their 50th Birthday Bash fundraiser on Thursday\, August 1\, 2024 at The Wexford at Emerald Greens in Hastings from 5 &ndash\; 9pm.<br />\nJoin an unforgettable evening to enjoy drink tastings\, delicious food\, unique games\, a throwback silent auction\, and live music from the Riverside All-Stars\, who will be playing songs through the decades! The party also features an online auction and the opportunity to wear your favorite decade&rsquo\;s attire for a chance to win a special prize. Anyone can participate in the online auction\, with or without a ticket.\n<p>Share the aging journey with DARTS as we raise our glasses\, raise funds\, and raise spirits!<br />\nCheers to 50 years&hellip\; and cheers to 50 more!</p>\n\n<h3><strong>Together\, we&#39\;ll create connections that enrich aging.</strong></h3>\n
LOCATION:The Wexford at Emerald Greens 14425 Goodwin Ave Hastings\, MN 55033
UID:e.471.783706
SEQUENCE:3
DTSTAMP:20260421T162004Z
URL:https://business.dcrchamber.com/events/details/darts-50th-birthday-bash-783706
END:VEVENT

END:VCALENDAR
