BEGIN:VCALENDAR
VERSION:2.0
PRODID:-//ChamberMaster//Event Calendar 2.0//EN
METHOD:PUBLISH
X-PUBLISHED-TTL:P3D
REFRESH-INTERVAL:P3D
CALSCALE:GREGORIAN
BEGIN:VEVENT
DTSTART:20240417T123000Z
DTEND:20240417T140000Z
X-MICROSOFT-CDO-ALLDAYEVENT:FALSE
SUMMARY:DARTS 10th Annual Fundraising Breakfast
DESCRIPTION:Join DARTS for their 10th Annual Fundraising Breakfast on Wednesday\, April 17 at 7:30am at the Mendakota Country Club. This year's event will feature networking\, a breakfast buffet\, and an incredible speaker from Goff Public\, Jennifer Hellman. Jen will be talking about Connecting through the Generations\, sharing her perspective on communicating across all generations and ages. And all of that will happen before 9am! Join us for this action-packed morning
X-ALT-DESC;FMTTYPE=text/html:Join DARTS for their 10th Annual Fundraising Breakfast on Wednesday\, April 17 at 7:30am at the Mendakota Country Club. This year&rsquo\;s event will feature networking\, a breakfast buffet\, and an incredible speaker from Goff Public\, Jennifer Hellman. Jen will be talking about Connecting through the Generations\, sharing her perspective on communicating across all generations and ages. And all of that will happen before 9am! Join us for this action-packed morning
LOCATION:Mendakota Country Club 2075 Mendakota Dr. Mendota Heights\, MN 55120
UID:e.471.783677
SEQUENCE:3
DTSTAMP:20260421T210517Z
URL:https://business.dcrchamber.com/events/details/darts-10th-annual-fundraising-breakfast-783677
END:VEVENT

END:VCALENDAR
