BEGIN:VCALENDAR
VERSION:2.0
PRODID:-//ChamberMaster//Event Calendar 2.0//EN
METHOD:PUBLISH
X-PUBLISHED-TTL:P3D
REFRESH-INTERVAL:P3D
CALSCALE:GREGORIAN
BEGIN:VEVENT
DTSTART:20250918T123000Z
DTEND:20250918T140000Z
X-MICROSOFT-CDO-ALLDAYEVENT:FALSE
SUMMARY:Community Grants Awards Breakfast
DESCRIPTION:Help us celebrate our 2025 grant recipients on Thursday\, September 18\, 2025 | 7:30 - 9:00 AM at Emagine Movie Theater in Eagan. \n\n~Learn about issues our nonprofit leaders are addressing\n\n~Find out how you can help\n\n~Network with other Eagan community leaders\n\nCoffee and a light breakfast will be provided.
X-ALT-DESC;FMTTYPE=text/html:<p>Help us celebrate our 2025 grant recipients on Thursday\, September 18\, 2025 | 7:30 - 9:00 AM at Emagine Movie Theater in Eagan.&nbsp\;</p>\n\n<p>~Learn about issues our nonprofit leaders are addressing</p>\n\n<p>~Find out how you can help</p>\n\n<p>~Network with other Eagan community leaders</p>\n\n<p>Coffee and a light breakfast will be provided.</p>\n
LOCATION:Emagine Theater Eagan 2055 Cliff Rd\, Eagan\, MN 55122
UID:e.471.784141
SEQUENCE:3
DTSTAMP:20260422T115934Z
URL:https://business.dcrchamber.com/events/details/community-grants-awards-breakfast-784141
END:VEVENT

END:VCALENDAR
