BEGIN:VCALENDAR
VERSION:2.0
PRODID:-//ChamberMaster//Event Calendar 2.0//EN
METHOD:PUBLISH
X-PUBLISHED-TTL:P3D
REFRESH-INTERVAL:P3D
CALSCALE:GREGORIAN
BEGIN:VEVENT
DTSTART:20250814T130000Z
DTEND:20250814T140000Z
X-MICROSOFT-CDO-ALLDAYEVENT:FALSE
SUMMARY:Coffee Break - Salon Sidera
DESCRIPTION:Join us for a Coffee Break\n\nat Salon Sidera\n\n \nStart your morning off right with a fresh cup of coffee\, a business card\, and a visit to a DCR Chamber member. Coffee Breaks are established to casually network while gathering in a comfortable relaxed atmosphere. \n\n \nAbout Salon Sidera\n\nSalon Sidera is a premier beauty destination located in Lakeville\, Minnesota. Sidera is a rental space with designers who specialize in hair cutting\, lived in colors\, and extension services. We offer a wide range of luxurious treatments designed to enhance your natural beauty and leave you feeling confident and refreshed. From precision haircuts to expert color and styling\, we are committed to providing top-notch service that exceeds your expectations. Sidera is a rental salon dedicated to making our guests feel illuminated. You deserve to feel like a star\, especially after getting your hair done!
X-ALT-DESC;FMTTYPE=text/html:<div style="text-align: center\;"><span style="font-family:arial\;"><span style="font-size:26px\;">Join us for a Coffee Break<br />\nat Salon Sidera</span></span><br />\n<span style="color: rgb(51\, 51\, 51)\; font-family: Raleway\, sans-serif\; font-size: 16px\; background-color: rgb(255\, 255\, 255)\;">&nbsp\;</span>\n<p style="box-sizing: border-box\; margin: 0px 0px 10px\; outline: 0px\; color: rgb(51\, 51\, 51)\; font-size: 16px\; background-color: rgb(255\, 255\, 255)\; font-family: Roboto\, sans-serif\;"><span style="font-size:16px\;"><span style="font-family:arial\;"><span style="box-sizing: border-box\; outline: 0px\;"><span style="box-sizing: border-box\; outline: 0px\;">Start your morning off right with a fresh cup of coffee\, a business card\, and a visit to a DCR Chamber member.&nbsp\;Coffee Breaks are established to casually network while gathering in a comfortable relaxed atmosphere.&nbsp\;</span></span></span></span><br />\n&nbsp\;</p>\n<span style="font-size:22px\;"><span style="font-family:arial\;">About Salon Sidera</span></span></div>\n\n<p style="box-sizing: border-box\; margin: 0px 0px 10px\; font-family: Roboto\, sans-serif\; font-size: 16px\;"><span style="font-family: Roboto\, sans-serif\; font-size: 20px\; background-color: rgb(255\, 255\, 255)\;">Salon Sidera is a premier beauty destination located in Lakeville\, Minnesota. Sidera is a rental space with designers who specialize in hair cutting\, lived in colors\, and extension services. We offer a wide range of luxurious treatments designed to enhance your natural beauty and leave you feeling confident and refreshed. From precision haircuts to expert color and styling\, we are committed to providing top-notch service that exceeds your expectations. Sidera is a rental salon dedicated to making our guests feel illuminated. You deserve to feel like a star\, especially after getting your hair done!</span></p>\n
LOCATION:Salon Sidera 7624 160th St. W. Lakeville\, MN 55044
UID:e.471.783743
SEQUENCE:3
DTSTAMP:20260422T120046Z
URL:https://business.dcrchamber.com/events/details/coffee-break-salon-sidera-783743
END:VEVENT

END:VCALENDAR
