BEGIN:VCALENDAR
VERSION:2.0
PRODID:-//ChamberMaster//Event Calendar 2.0//EN
METHOD:PUBLISH
X-PUBLISHED-TTL:P3D
REFRESH-INTERVAL:P3D
CALSCALE:GREGORIAN
BEGIN:VEVENT
DTSTART:20230720T210000Z
DTEND:20230720T230000Z
X-MICROSOFT-CDO-ALLDAYEVENT:FALSE
SUMMARY:CNH Architects Open House
DESCRIPTION:Come for good conversation\, light food and beverages in our recently remodeled office space.\n\nPlease RSVP to cnh@cnharch.com by July 13th. 2023. All are welcome!
X-ALT-DESC;FMTTYPE=text/html:Come for good conversation\, light food and beverages in our recently remodeled office space.<br />\nPlease RSVP to <a href="mailto:cnh@cnharch.com">cnh@cnharch.com</a> by July 13th. 2023. All are welcome!
LOCATION:7300 147th Street West Apple Valley\, MN 55124 located on the 5th Floor
UID:e.471.783400
SEQUENCE:3
DTSTAMP:20260422T114906Z
URL:https://business.dcrchamber.com/events/details/cnh-architects-open-house-783400
END:VEVENT

END:VCALENDAR
