BEGIN:VCALENDAR
VERSION:2.0
PRODID:-//ChamberMaster//Event Calendar 2.0//EN
METHOD:PUBLISH
X-PUBLISHED-TTL:P3D
REFRESH-INTERVAL:P3D
CALSCALE:GREGORIAN
BEGIN:VEVENT
DTSTART:20240516T223000Z
DTEND:20240517T004500Z
X-MICROSOFT-CDO-ALLDAYEVENT:FALSE
SUMMARY:Bed Building Event - Sleep in Heavenly Peace
DESCRIPTION:Please join us to build beds for kids in our community who are without a bed. We will cut\, sand\, assemble and finish bed components. No experience is necessary and we have jobs for anyone from elementary school aged to retirees. We will supply all the tools and protective gear (masks\, gloves\, ear plugs and safety glasses). Water will be available and every volunteer receives a free meal card from Chick-fil-A in Burnsville.\n\n\n\nWe'll be building 160+ beds for area children 3-17 years old who have no bed of their own. These beds will later be delivered into the children's homes\, enabling them to wake up refreshed after a good night's sleep instead of exhausted and cranky. These beds make a huge difference in the lives of the children who receive them\, creating an opportunity for a much brighter future!\n\n\n\nIt's hard work and great fun! Enjoy a tremendous sense of accomplishment and fulfilment helping turn stacks of lumber into completed bed components.
X-ALT-DESC;FMTTYPE=text/html:<span style="color:rgb(36\, 60\, 75)\; font-family:gotham\,-apple-system\,blinkmacsystemfont\,segoe ui\,roboto\,helvetica neue\,arial\,sans-serif\,apple color emoji\,segoe ui emoji\,segoe ui symbol\; font-size:15px">Please join us to build beds for kids in our community who are without a bed. We will cut\, sand\, assemble and finish bed components. No experience is necessary and we have jobs for anyone from elementary school aged to retirees. We will supply all the tools and protective gear (masks\, gloves\, ear plugs and safety glasses). Water will be available and every volunteer receives a free meal card from Chick-fil-A in Burnsville.<br />\n<br />\nWe&#39\;ll be building 160+ beds for area children 3-17 years old who have no bed of their own. These beds will later be delivered into the children&#39\;s homes\, enabling them to wake up refreshed after a good night&#39\;s sleep instead of exhausted and cranky. These beds make a huge difference in the lives of the children who receive them\, creating an opportunity for a much brighter future!<br />\n<br />\nIt&#39\;s hard work and great fun! Enjoy a tremendous sense of accomplishment and fulfilment helping turn stacks of lumber into completed bed components. </span>
LOCATION:Northern Tool + Equipment Headquarters 2800 Southcross Dr Burnsville\, MN 55306
UID:e.471.783682
SEQUENCE:3
DTSTAMP:20260421T195413Z
URL:https://business.dcrchamber.com/events/details/bed-building-event-sleep-in-heavenly-peace-783682
END:VEVENT

END:VCALENDAR
