BEGIN:VCALENDAR
VERSION:2.0
PRODID:-//ChamberMaster//Event Calendar 2.0//EN
METHOD:PUBLISH
X-PUBLISHED-TTL:P3D
REFRESH-INTERVAL:P3D
CALSCALE:GREGORIAN
BEGIN:VEVENT
DTSTART:20260325T170000Z
DTEND:20260325T183000Z
X-MICROSOFT-CDO-ALLDAYEVENT:FALSE
SUMMARY:Advanced Copywriting
DESCRIPTION:Go beyond the basics of copywriting into the more conceptual aspects\, including emotional appeal\, consistency\, humor\, and impact. Receive a tool kit of new approaches for your next assignment.
X-ALT-DESC;FMTTYPE=text/html:Go beyond the basics of copywriting into the more conceptual aspects\, including emotional appeal\, consistency\, humor\, and impact. Receive a tool kit of new approaches for your next assignment.
LOCATION:Virtual. Register at Dakota County Library website\, search for events calendar. Zoom link will be provided.
UID:e.471.784379
SEQUENCE:3
DTSTAMP:20260422T030123Z
URL:https://business.dcrchamber.com/events/details/advanced-copywriting-784379
END:VEVENT

END:VCALENDAR
