BEGIN:VCALENDAR
VERSION:2.0
PRODID:-//ChamberMaster//Event Calendar 2.0//EN
METHOD:PUBLISH
X-PUBLISHED-TTL:P3D
REFRESH-INTERVAL:P3D
CALSCALE:GREGORIAN
BEGIN:VEVENT
DTSTART:20260218T213000Z
DTEND:20260218T230000Z
X-MICROSOFT-CDO-ALLDAYEVENT:FALSE
SUMMARY:2026 "Happy Hour & Handshakes" - Living Well Disability
DESCRIPTION:Happy Hour & Handshakes is your mid-afternoon reset designed for connection when your mornings are already packed with meetings and emails. Join fellow DCR Chamber members from 3:30 5:00 PM for an easy\, welcoming way to collaborate\, build relationships\, and stay engaged with your business community.\n\nEnjoy refreshments and light snacks while making meaningful connections\, then take a guided tour of Living Well Disability Services\, Living Well Disability Services began in 1972 as Dakota's Children\, founded by parents\, volunteers\, and community partners who recognized the need for long-term\, person-first care for individuals with disabilities. For more than 50 years\, Living Well has embraced a person-centered approach that honors individual goals\, family needs\, and hopes for the future. Today\, the organization supports more than 300 people through 36 group homes and in-home services\, powered by 500 dedicated staff and 500 volunteers committed to compassionate\, community-centered care.\n\nCome as you are\, shake a few hands\, and leave energized this is community connection that fits your real schedule.
X-ALT-DESC;FMTTYPE=text/html:<p data-end="304" data-start="0" style="box-sizing: border-box\; margin: 0px 0px 1rem\; outline: 0px\; font-family: Raleway\, sans-serif\; font-size: 16px\;"><span style="box-sizing: border-box\;"><span style="box-sizing: border-box\; font-family: arial\;">Happy Hour &amp\; Handshakes is your mid-afternoon reset&mdash\;designed for connection when your mornings are already packed with meetings and emails. Join fellow DCR Chamber members from&nbsp\;<span data-end="193" data-start="177" style="box-sizing: border-box\; font-weight: bolder\;">3:30&ndash\;5:00 PM</span>&nbsp\;for an easy\, welcoming way to collaborate\, build relationships\, and stay engaged with your business community.</span></span></p>\n\n<p data-end="734" data-start="306" style="box-sizing: border-box\; margin: 0px 0px 1rem\; font-family: Raleway\, sans-serif\; font-size: 16px\;"><span style="box-sizing: border-box\;"><span style="box-sizing: border-box\; font-family: arial\;">Enjoy refreshments and light snacks while making meaningful connections\, then take a guided tour of&nbsp\;<a href="https://livingwell.org/"><span data-end="427" data-start="406" style="box-sizing: border-box\; font-weight: bolder\;">Living Well Disability Services</span>\,</a> </span></span>Living Well Disability Services began in 1972 as Dakota&rsquo\;s Children\, founded by parents\, volunteers\, and community partners who recognized the need for long-term\, person-first care for individuals with disabilities. For more than 50 years\, Living Well has embraced a person-centered approach that honors individual goals\, family needs\, and hopes for the future. Today\, the organization supports more than 300 people through 36 group homes and in-home services\, powered by 500 dedicated staff and 500 volunteers committed to compassionate\, community-centered care.</p>\n\n<p data-end="850" data-is-last-node="" data-is-only-node="" data-start="736" style="box-sizing: border-box\; margin: 0px 0px 1rem\; font-family: Raleway\, sans-serif\; font-size: 16px\;"><span style="box-sizing: border-box\;"><span style="box-sizing: border-box\; font-family: arial\;">Come as you are\, shake a few hands\, and leave energized&mdash\;this is community connection that fits your real schedule.</span></span></p>\n
LOCATION:Living Well Disability Services 1168 Northland Drive Mendota Heights\, MN 55120
UID:e.471.784111
SEQUENCE:3
DTSTAMP:20260422T041830Z
URL:https://business.dcrchamber.com/events/details/2026-happy-hour-handshakes-living-well-disability-784111
END:VEVENT

END:VCALENDAR
