BEGIN:VCALENDAR
VERSION:2.0
PRODID:-//ChamberMaster//Event Calendar 2.0//EN
METHOD:PUBLISH
X-PUBLISHED-TTL:P3D
REFRESH-INTERVAL:P3D
CALSCALE:GREGORIAN
BEGIN:VEVENT
DTSTART:20260121T213000Z
DTEND:20260121T230000Z
X-MICROSOFT-CDO-ALLDAYEVENT:FALSE
SUMMARY:2026 "Happy Hour & Handshakes" - Canceled! SEE YOU IN FEBRUARY at the next Happy Hour & Handshakes!
DESCRIPTION:January Event canceled! See you at the next Happy Hour & Handshakes in February!
X-ALT-DESC;FMTTYPE=text/html:<font face="arial"><span style="font-size: 16px\;">January Event canceled! See you at the next Happy Hour</span></font>&nbsp\;&amp\; Handshakes in February!
LOCATION:
UID:e.471.784098
SEQUENCE:3
DTSTAMP:20260422T053116Z
URL:https://business.dcrchamber.com/events/details/2026-happy-hour-handshakes-canceled-see-you-in-february-at-the-next-happy-hour-handshakes-784098
END:VEVENT

END:VCALENDAR
